BEGIN:VCALENDAR
VERSION:2.0
PRODID:-//zum Böhlgrund | Eschenau | Gasthof Löbl - ECPv6.13.2.1//NONSGML v1.0//EN
CALSCALE:GREGORIAN
METHOD:PUBLISH
X-ORIGINAL-URL:https://www.gasthof-loebl.de
X-WR-CALDESC:Veranstaltungen für zum Böhlgrund | Eschenau | Gasthof Löbl
REFRESH-INTERVAL;VALUE=DURATION:PT1H
X-Robots-Tag:noindex
X-PUBLISHED-TTL:PT1H
BEGIN:VTIMEZONE
TZID:Europe/Berlin
BEGIN:DAYLIGHT
TZOFFSETFROM:+0100
TZOFFSETTO:+0200
TZNAME:CEST
DTSTART:20270328T010000
END:DAYLIGHT
BEGIN:STANDARD
TZOFFSETFROM:+0200
TZOFFSETTO:+0100
TZNAME:CET
DTSTART:20271031T010000
END:STANDARD
END:VTIMEZONE
BEGIN:VEVENT
DTSTART;TZID=Europe/Berlin:20270401T080000
DTEND;TZID=Europe/Berlin:20270401T103000
DTSTAMP:20260426T044134
CREATED:20251117T143828Z
LAST-MODIFIED:20260226T130452Z
UID:10000757-1806566400-1806575400@www.gasthof-loebl.de
SUMMARY:Frühstücksbuffet von Dienstag - Sonntag
DESCRIPTION:nur nach telefonischer Voranmeldung!
URL:https://www.gasthof-loebl.de/veranstaltung/fruehstuecksbuffet-taegl-von-dienstag-sonntag/2027-04-01/
LOCATION:Gasthof Löbl\, Eschenau\, August-Wacker-Str. 25\, Eschenau\, Bayern\, 97478
ATTACH;FMTTYPE=image/jpeg:https://www.gasthof-loebl.de/wp-content/uploads/Fruehstuecksbuffet_II-scaled.jpg
END:VEVENT
BEGIN:VEVENT
DTSTART;TZID=Europe/Berlin:20270401T113000
DTEND;TZID=Europe/Berlin:20270401T150000
DTSTAMP:20260426T044134
CREATED:20251027T141250Z
LAST-MODIFIED:20260326T124641Z
UID:10000137-1806579000-1806591600@www.gasthof-loebl.de
SUMMARY:Kesselfleischessen - jeden Donnerstag
DESCRIPTION:
URL:https://www.gasthof-loebl.de/veranstaltung/kesselfleischessen-jeden-donnerstag/2027-04-01/
LOCATION:Gasthof Löbl\, Eschenau\, August-Wacker-Str. 25\, Eschenau\, Bayern\, 97478
ATTACH;FMTTYPE=image/jpeg:https://www.gasthof-loebl.de/wp-content/uploads/Kesselfleisch_II.jpg
END:VEVENT
BEGIN:VEVENT
DTSTART;TZID=Europe/Berlin:20270402T080000
DTEND;TZID=Europe/Berlin:20270402T103000
DTSTAMP:20260426T044134
CREATED:20251117T143828Z
LAST-MODIFIED:20260226T130452Z
UID:10000758-1806652800-1806661800@www.gasthof-loebl.de
SUMMARY:Frühstücksbuffet von Dienstag - Sonntag
DESCRIPTION:nur nach telefonischer Voranmeldung!
URL:https://www.gasthof-loebl.de/veranstaltung/fruehstuecksbuffet-taegl-von-dienstag-sonntag/2027-04-02/
LOCATION:Gasthof Löbl\, Eschenau\, August-Wacker-Str. 25\, Eschenau\, Bayern\, 97478
ATTACH;FMTTYPE=image/jpeg:https://www.gasthof-loebl.de/wp-content/uploads/Fruehstuecksbuffet_II-scaled.jpg
END:VEVENT
BEGIN:VEVENT
DTSTART;TZID=Europe/Berlin:20270403T080000
DTEND;TZID=Europe/Berlin:20270403T103000
DTSTAMP:20260426T044134
CREATED:20251117T143828Z
LAST-MODIFIED:20260226T130452Z
UID:10000759-1806739200-1806748200@www.gasthof-loebl.de
SUMMARY:Frühstücksbuffet von Dienstag - Sonntag
DESCRIPTION:nur nach telefonischer Voranmeldung!
URL:https://www.gasthof-loebl.de/veranstaltung/fruehstuecksbuffet-taegl-von-dienstag-sonntag/2027-04-03/
LOCATION:Gasthof Löbl\, Eschenau\, August-Wacker-Str. 25\, Eschenau\, Bayern\, 97478
ATTACH;FMTTYPE=image/jpeg:https://www.gasthof-loebl.de/wp-content/uploads/Fruehstuecksbuffet_II-scaled.jpg
END:VEVENT
BEGIN:VEVENT
DTSTART;TZID=Europe/Berlin:20270404T080000
DTEND;TZID=Europe/Berlin:20270404T103000
DTSTAMP:20260426T044134
CREATED:20251117T143828Z
LAST-MODIFIED:20260226T130452Z
UID:10000760-1806825600-1806834600@www.gasthof-loebl.de
SUMMARY:Frühstücksbuffet von Dienstag - Sonntag
DESCRIPTION:nur nach telefonischer Voranmeldung!
URL:https://www.gasthof-loebl.de/veranstaltung/fruehstuecksbuffet-taegl-von-dienstag-sonntag/2027-04-04/
LOCATION:Gasthof Löbl\, Eschenau\, August-Wacker-Str. 25\, Eschenau\, Bayern\, 97478
ATTACH;FMTTYPE=image/jpeg:https://www.gasthof-loebl.de/wp-content/uploads/Fruehstuecksbuffet_II-scaled.jpg
END:VEVENT
BEGIN:VEVENT
DTSTART;TZID=Europe/Berlin:20270406T080000
DTEND;TZID=Europe/Berlin:20270406T103000
DTSTAMP:20260426T044134
CREATED:20251117T143828Z
LAST-MODIFIED:20260226T130452Z
UID:10000761-1806998400-1807007400@www.gasthof-loebl.de
SUMMARY:Frühstücksbuffet von Dienstag - Sonntag
DESCRIPTION:nur nach telefonischer Voranmeldung!
URL:https://www.gasthof-loebl.de/veranstaltung/fruehstuecksbuffet-taegl-von-dienstag-sonntag/2027-04-06/
LOCATION:Gasthof Löbl\, Eschenau\, August-Wacker-Str. 25\, Eschenau\, Bayern\, 97478
ATTACH;FMTTYPE=image/jpeg:https://www.gasthof-loebl.de/wp-content/uploads/Fruehstuecksbuffet_II-scaled.jpg
END:VEVENT
BEGIN:VEVENT
DTSTART;TZID=Europe/Berlin:20270407T080000
DTEND;TZID=Europe/Berlin:20270407T103000
DTSTAMP:20260426T044134
CREATED:20251117T143828Z
LAST-MODIFIED:20260226T130452Z
UID:10000762-1807084800-1807093800@www.gasthof-loebl.de
SUMMARY:Frühstücksbuffet von Dienstag - Sonntag
DESCRIPTION:nur nach telefonischer Voranmeldung!
URL:https://www.gasthof-loebl.de/veranstaltung/fruehstuecksbuffet-taegl-von-dienstag-sonntag/2027-04-07/
LOCATION:Gasthof Löbl\, Eschenau\, August-Wacker-Str. 25\, Eschenau\, Bayern\, 97478
ATTACH;FMTTYPE=image/jpeg:https://www.gasthof-loebl.de/wp-content/uploads/Fruehstuecksbuffet_II-scaled.jpg
END:VEVENT
BEGIN:VEVENT
DTSTART;TZID=Europe/Berlin:20270408T080000
DTEND;TZID=Europe/Berlin:20270408T103000
DTSTAMP:20260426T044134
CREATED:20251117T143828Z
LAST-MODIFIED:20260226T130452Z
UID:10000763-1807171200-1807180200@www.gasthof-loebl.de
SUMMARY:Frühstücksbuffet von Dienstag - Sonntag
DESCRIPTION:nur nach telefonischer Voranmeldung!
URL:https://www.gasthof-loebl.de/veranstaltung/fruehstuecksbuffet-taegl-von-dienstag-sonntag/2027-04-08/
LOCATION:Gasthof Löbl\, Eschenau\, August-Wacker-Str. 25\, Eschenau\, Bayern\, 97478
ATTACH;FMTTYPE=image/jpeg:https://www.gasthof-loebl.de/wp-content/uploads/Fruehstuecksbuffet_II-scaled.jpg
END:VEVENT
BEGIN:VEVENT
DTSTART;TZID=Europe/Berlin:20270408T113000
DTEND;TZID=Europe/Berlin:20270408T150000
DTSTAMP:20260426T044134
CREATED:20251027T141250Z
LAST-MODIFIED:20260326T124641Z
UID:10000138-1807183800-1807196400@www.gasthof-loebl.de
SUMMARY:Kesselfleischessen - jeden Donnerstag
DESCRIPTION:
URL:https://www.gasthof-loebl.de/veranstaltung/kesselfleischessen-jeden-donnerstag/2027-04-08/
LOCATION:Gasthof Löbl\, Eschenau\, August-Wacker-Str. 25\, Eschenau\, Bayern\, 97478
ATTACH;FMTTYPE=image/jpeg:https://www.gasthof-loebl.de/wp-content/uploads/Kesselfleisch_II.jpg
END:VEVENT
BEGIN:VEVENT
DTSTART;TZID=Europe/Berlin:20270409T080000
DTEND;TZID=Europe/Berlin:20270409T103000
DTSTAMP:20260426T044134
CREATED:20251117T143828Z
LAST-MODIFIED:20260226T130452Z
UID:10000764-1807257600-1807266600@www.gasthof-loebl.de
SUMMARY:Frühstücksbuffet von Dienstag - Sonntag
DESCRIPTION:nur nach telefonischer Voranmeldung!
URL:https://www.gasthof-loebl.de/veranstaltung/fruehstuecksbuffet-taegl-von-dienstag-sonntag/2027-04-09/
LOCATION:Gasthof Löbl\, Eschenau\, August-Wacker-Str. 25\, Eschenau\, Bayern\, 97478
ATTACH;FMTTYPE=image/jpeg:https://www.gasthof-loebl.de/wp-content/uploads/Fruehstuecksbuffet_II-scaled.jpg
END:VEVENT
BEGIN:VEVENT
DTSTART;TZID=Europe/Berlin:20270410T080000
DTEND;TZID=Europe/Berlin:20270410T103000
DTSTAMP:20260426T044134
CREATED:20251117T143828Z
LAST-MODIFIED:20260226T130452Z
UID:10000765-1807344000-1807353000@www.gasthof-loebl.de
SUMMARY:Frühstücksbuffet von Dienstag - Sonntag
DESCRIPTION:nur nach telefonischer Voranmeldung!
URL:https://www.gasthof-loebl.de/veranstaltung/fruehstuecksbuffet-taegl-von-dienstag-sonntag/2027-04-10/
LOCATION:Gasthof Löbl\, Eschenau\, August-Wacker-Str. 25\, Eschenau\, Bayern\, 97478
ATTACH;FMTTYPE=image/jpeg:https://www.gasthof-loebl.de/wp-content/uploads/Fruehstuecksbuffet_II-scaled.jpg
END:VEVENT
BEGIN:VEVENT
DTSTART;TZID=Europe/Berlin:20270411T080000
DTEND;TZID=Europe/Berlin:20270411T103000
DTSTAMP:20260426T044134
CREATED:20251117T143828Z
LAST-MODIFIED:20260226T130452Z
UID:10000766-1807430400-1807439400@www.gasthof-loebl.de
SUMMARY:Frühstücksbuffet von Dienstag - Sonntag
DESCRIPTION:nur nach telefonischer Voranmeldung!
URL:https://www.gasthof-loebl.de/veranstaltung/fruehstuecksbuffet-taegl-von-dienstag-sonntag/2027-04-11/
LOCATION:Gasthof Löbl\, Eschenau\, August-Wacker-Str. 25\, Eschenau\, Bayern\, 97478
ATTACH;FMTTYPE=image/jpeg:https://www.gasthof-loebl.de/wp-content/uploads/Fruehstuecksbuffet_II-scaled.jpg
END:VEVENT
BEGIN:VEVENT
DTSTART;TZID=Europe/Berlin:20270413T080000
DTEND;TZID=Europe/Berlin:20270413T103000
DTSTAMP:20260426T044134
CREATED:20251117T143828Z
LAST-MODIFIED:20260226T130452Z
UID:10000767-1807603200-1807612200@www.gasthof-loebl.de
SUMMARY:Frühstücksbuffet von Dienstag - Sonntag
DESCRIPTION:nur nach telefonischer Voranmeldung!
URL:https://www.gasthof-loebl.de/veranstaltung/fruehstuecksbuffet-taegl-von-dienstag-sonntag/2027-04-13/
LOCATION:Gasthof Löbl\, Eschenau\, August-Wacker-Str. 25\, Eschenau\, Bayern\, 97478
ATTACH;FMTTYPE=image/jpeg:https://www.gasthof-loebl.de/wp-content/uploads/Fruehstuecksbuffet_II-scaled.jpg
END:VEVENT
BEGIN:VEVENT
DTSTART;TZID=Europe/Berlin:20270414T080000
DTEND;TZID=Europe/Berlin:20270414T103000
DTSTAMP:20260426T044134
CREATED:20251117T143828Z
LAST-MODIFIED:20260226T130452Z
UID:10000768-1807689600-1807698600@www.gasthof-loebl.de
SUMMARY:Frühstücksbuffet von Dienstag - Sonntag
DESCRIPTION:nur nach telefonischer Voranmeldung!
URL:https://www.gasthof-loebl.de/veranstaltung/fruehstuecksbuffet-taegl-von-dienstag-sonntag/2027-04-14/
LOCATION:Gasthof Löbl\, Eschenau\, August-Wacker-Str. 25\, Eschenau\, Bayern\, 97478
ATTACH;FMTTYPE=image/jpeg:https://www.gasthof-loebl.de/wp-content/uploads/Fruehstuecksbuffet_II-scaled.jpg
END:VEVENT
BEGIN:VEVENT
DTSTART;TZID=Europe/Berlin:20270415T080000
DTEND;TZID=Europe/Berlin:20270415T103000
DTSTAMP:20260426T044134
CREATED:20251117T143828Z
LAST-MODIFIED:20260226T130452Z
UID:10000769-1807776000-1807785000@www.gasthof-loebl.de
SUMMARY:Frühstücksbuffet von Dienstag - Sonntag
DESCRIPTION:nur nach telefonischer Voranmeldung!
URL:https://www.gasthof-loebl.de/veranstaltung/fruehstuecksbuffet-taegl-von-dienstag-sonntag/2027-04-15/
LOCATION:Gasthof Löbl\, Eschenau\, August-Wacker-Str. 25\, Eschenau\, Bayern\, 97478
ATTACH;FMTTYPE=image/jpeg:https://www.gasthof-loebl.de/wp-content/uploads/Fruehstuecksbuffet_II-scaled.jpg
END:VEVENT
BEGIN:VEVENT
DTSTART;TZID=Europe/Berlin:20270415T113000
DTEND;TZID=Europe/Berlin:20270415T150000
DTSTAMP:20260426T044134
CREATED:20251027T141250Z
LAST-MODIFIED:20260326T124641Z
UID:10000139-1807788600-1807801200@www.gasthof-loebl.de
SUMMARY:Kesselfleischessen - jeden Donnerstag
DESCRIPTION:
URL:https://www.gasthof-loebl.de/veranstaltung/kesselfleischessen-jeden-donnerstag/2027-04-15/
LOCATION:Gasthof Löbl\, Eschenau\, August-Wacker-Str. 25\, Eschenau\, Bayern\, 97478
ATTACH;FMTTYPE=image/jpeg:https://www.gasthof-loebl.de/wp-content/uploads/Kesselfleisch_II.jpg
END:VEVENT
BEGIN:VEVENT
DTSTART;TZID=Europe/Berlin:20270416T080000
DTEND;TZID=Europe/Berlin:20270416T103000
DTSTAMP:20260426T044134
CREATED:20251117T143828Z
LAST-MODIFIED:20260226T130452Z
UID:10000770-1807862400-1807871400@www.gasthof-loebl.de
SUMMARY:Frühstücksbuffet von Dienstag - Sonntag
DESCRIPTION:nur nach telefonischer Voranmeldung!
URL:https://www.gasthof-loebl.de/veranstaltung/fruehstuecksbuffet-taegl-von-dienstag-sonntag/2027-04-16/
LOCATION:Gasthof Löbl\, Eschenau\, August-Wacker-Str. 25\, Eschenau\, Bayern\, 97478
ATTACH;FMTTYPE=image/jpeg:https://www.gasthof-loebl.de/wp-content/uploads/Fruehstuecksbuffet_II-scaled.jpg
END:VEVENT
BEGIN:VEVENT
DTSTART;TZID=Europe/Berlin:20270417T080000
DTEND;TZID=Europe/Berlin:20270417T103000
DTSTAMP:20260426T044134
CREATED:20251117T143828Z
LAST-MODIFIED:20260226T130452Z
UID:10000771-1807948800-1807957800@www.gasthof-loebl.de
SUMMARY:Frühstücksbuffet von Dienstag - Sonntag
DESCRIPTION:nur nach telefonischer Voranmeldung!
URL:https://www.gasthof-loebl.de/veranstaltung/fruehstuecksbuffet-taegl-von-dienstag-sonntag/2027-04-17/
LOCATION:Gasthof Löbl\, Eschenau\, August-Wacker-Str. 25\, Eschenau\, Bayern\, 97478
ATTACH;FMTTYPE=image/jpeg:https://www.gasthof-loebl.de/wp-content/uploads/Fruehstuecksbuffet_II-scaled.jpg
END:VEVENT
BEGIN:VEVENT
DTSTART;TZID=Europe/Berlin:20270418T080000
DTEND;TZID=Europe/Berlin:20270418T103000
DTSTAMP:20260426T044134
CREATED:20251117T143828Z
LAST-MODIFIED:20260226T130452Z
UID:10000772-1808035200-1808044200@www.gasthof-loebl.de
SUMMARY:Frühstücksbuffet von Dienstag - Sonntag
DESCRIPTION:nur nach telefonischer Voranmeldung!
URL:https://www.gasthof-loebl.de/veranstaltung/fruehstuecksbuffet-taegl-von-dienstag-sonntag/2027-04-18/
LOCATION:Gasthof Löbl\, Eschenau\, August-Wacker-Str. 25\, Eschenau\, Bayern\, 97478
ATTACH;FMTTYPE=image/jpeg:https://www.gasthof-loebl.de/wp-content/uploads/Fruehstuecksbuffet_II-scaled.jpg
END:VEVENT
BEGIN:VEVENT
DTSTART;TZID=Europe/Berlin:20270420T080000
DTEND;TZID=Europe/Berlin:20270420T103000
DTSTAMP:20260426T044134
CREATED:20251117T143828Z
LAST-MODIFIED:20260226T130452Z
UID:10000773-1808208000-1808217000@www.gasthof-loebl.de
SUMMARY:Frühstücksbuffet von Dienstag - Sonntag
DESCRIPTION:nur nach telefonischer Voranmeldung!
URL:https://www.gasthof-loebl.de/veranstaltung/fruehstuecksbuffet-taegl-von-dienstag-sonntag/2027-04-20/
LOCATION:Gasthof Löbl\, Eschenau\, August-Wacker-Str. 25\, Eschenau\, Bayern\, 97478
ATTACH;FMTTYPE=image/jpeg:https://www.gasthof-loebl.de/wp-content/uploads/Fruehstuecksbuffet_II-scaled.jpg
END:VEVENT
BEGIN:VEVENT
DTSTART;TZID=Europe/Berlin:20270421T080000
DTEND;TZID=Europe/Berlin:20270421T103000
DTSTAMP:20260426T044134
CREATED:20251117T143828Z
LAST-MODIFIED:20260226T130452Z
UID:10000774-1808294400-1808303400@www.gasthof-loebl.de
SUMMARY:Frühstücksbuffet von Dienstag - Sonntag
DESCRIPTION:nur nach telefonischer Voranmeldung!
URL:https://www.gasthof-loebl.de/veranstaltung/fruehstuecksbuffet-taegl-von-dienstag-sonntag/2027-04-21/
LOCATION:Gasthof Löbl\, Eschenau\, August-Wacker-Str. 25\, Eschenau\, Bayern\, 97478
ATTACH;FMTTYPE=image/jpeg:https://www.gasthof-loebl.de/wp-content/uploads/Fruehstuecksbuffet_II-scaled.jpg
END:VEVENT
BEGIN:VEVENT
DTSTART;TZID=Europe/Berlin:20270422T080000
DTEND;TZID=Europe/Berlin:20270422T103000
DTSTAMP:20260426T044134
CREATED:20251117T143828Z
LAST-MODIFIED:20260226T130452Z
UID:10000775-1808380800-1808389800@www.gasthof-loebl.de
SUMMARY:Frühstücksbuffet von Dienstag - Sonntag
DESCRIPTION:nur nach telefonischer Voranmeldung!
URL:https://www.gasthof-loebl.de/veranstaltung/fruehstuecksbuffet-taegl-von-dienstag-sonntag/2027-04-22/
LOCATION:Gasthof Löbl\, Eschenau\, August-Wacker-Str. 25\, Eschenau\, Bayern\, 97478
ATTACH;FMTTYPE=image/jpeg:https://www.gasthof-loebl.de/wp-content/uploads/Fruehstuecksbuffet_II-scaled.jpg
END:VEVENT
BEGIN:VEVENT
DTSTART;TZID=Europe/Berlin:20270422T113000
DTEND;TZID=Europe/Berlin:20270422T150000
DTSTAMP:20260426T044134
CREATED:20251027T141250Z
LAST-MODIFIED:20260326T124641Z
UID:10000140-1808393400-1808406000@www.gasthof-loebl.de
SUMMARY:Kesselfleischessen - jeden Donnerstag
DESCRIPTION:
URL:https://www.gasthof-loebl.de/veranstaltung/kesselfleischessen-jeden-donnerstag/2027-04-22/
LOCATION:Gasthof Löbl\, Eschenau\, August-Wacker-Str. 25\, Eschenau\, Bayern\, 97478
ATTACH;FMTTYPE=image/jpeg:https://www.gasthof-loebl.de/wp-content/uploads/Kesselfleisch_II.jpg
END:VEVENT
BEGIN:VEVENT
DTSTART;TZID=Europe/Berlin:20270423T080000
DTEND;TZID=Europe/Berlin:20270423T103000
DTSTAMP:20260426T044134
CREATED:20251117T143828Z
LAST-MODIFIED:20260226T130452Z
UID:10000776-1808467200-1808476200@www.gasthof-loebl.de
SUMMARY:Frühstücksbuffet von Dienstag - Sonntag
DESCRIPTION:nur nach telefonischer Voranmeldung!
URL:https://www.gasthof-loebl.de/veranstaltung/fruehstuecksbuffet-taegl-von-dienstag-sonntag/2027-04-23/
LOCATION:Gasthof Löbl\, Eschenau\, August-Wacker-Str. 25\, Eschenau\, Bayern\, 97478
ATTACH;FMTTYPE=image/jpeg:https://www.gasthof-loebl.de/wp-content/uploads/Fruehstuecksbuffet_II-scaled.jpg
END:VEVENT
BEGIN:VEVENT
DTSTART;TZID=Europe/Berlin:20270424T080000
DTEND;TZID=Europe/Berlin:20270424T103000
DTSTAMP:20260426T044134
CREATED:20251117T143828Z
LAST-MODIFIED:20260226T130452Z
UID:10000777-1808553600-1808562600@www.gasthof-loebl.de
SUMMARY:Frühstücksbuffet von Dienstag - Sonntag
DESCRIPTION:nur nach telefonischer Voranmeldung!
URL:https://www.gasthof-loebl.de/veranstaltung/fruehstuecksbuffet-taegl-von-dienstag-sonntag/2027-04-24/
LOCATION:Gasthof Löbl\, Eschenau\, August-Wacker-Str. 25\, Eschenau\, Bayern\, 97478
ATTACH;FMTTYPE=image/jpeg:https://www.gasthof-loebl.de/wp-content/uploads/Fruehstuecksbuffet_II-scaled.jpg
END:VEVENT
BEGIN:VEVENT
DTSTART;TZID=Europe/Berlin:20270425T080000
DTEND;TZID=Europe/Berlin:20270425T103000
DTSTAMP:20260426T044134
CREATED:20251117T143828Z
LAST-MODIFIED:20260226T130452Z
UID:10000778-1808640000-1808649000@www.gasthof-loebl.de
SUMMARY:Frühstücksbuffet von Dienstag - Sonntag
DESCRIPTION:nur nach telefonischer Voranmeldung!
URL:https://www.gasthof-loebl.de/veranstaltung/fruehstuecksbuffet-taegl-von-dienstag-sonntag/2027-04-25/
LOCATION:Gasthof Löbl\, Eschenau\, August-Wacker-Str. 25\, Eschenau\, Bayern\, 97478
ATTACH;FMTTYPE=image/jpeg:https://www.gasthof-loebl.de/wp-content/uploads/Fruehstuecksbuffet_II-scaled.jpg
END:VEVENT
BEGIN:VEVENT
DTSTART;TZID=Europe/Berlin:20270427T080000
DTEND;TZID=Europe/Berlin:20270427T103000
DTSTAMP:20260426T044134
CREATED:20251117T143828Z
LAST-MODIFIED:20260226T130452Z
UID:10000779-1808812800-1808821800@www.gasthof-loebl.de
SUMMARY:Frühstücksbuffet von Dienstag - Sonntag
DESCRIPTION:nur nach telefonischer Voranmeldung!
URL:https://www.gasthof-loebl.de/veranstaltung/fruehstuecksbuffet-taegl-von-dienstag-sonntag/2027-04-27/
LOCATION:Gasthof Löbl\, Eschenau\, August-Wacker-Str. 25\, Eschenau\, Bayern\, 97478
ATTACH;FMTTYPE=image/jpeg:https://www.gasthof-loebl.de/wp-content/uploads/Fruehstuecksbuffet_II-scaled.jpg
END:VEVENT
BEGIN:VEVENT
DTSTART;TZID=Europe/Berlin:20270428T080000
DTEND;TZID=Europe/Berlin:20270428T103000
DTSTAMP:20260426T044134
CREATED:20251117T143828Z
LAST-MODIFIED:20260226T130452Z
UID:10000780-1808899200-1808908200@www.gasthof-loebl.de
SUMMARY:Frühstücksbuffet von Dienstag - Sonntag
DESCRIPTION:nur nach telefonischer Voranmeldung!
URL:https://www.gasthof-loebl.de/veranstaltung/fruehstuecksbuffet-taegl-von-dienstag-sonntag/2027-04-28/
LOCATION:Gasthof Löbl\, Eschenau\, August-Wacker-Str. 25\, Eschenau\, Bayern\, 97478
ATTACH;FMTTYPE=image/jpeg:https://www.gasthof-loebl.de/wp-content/uploads/Fruehstuecksbuffet_II-scaled.jpg
END:VEVENT
BEGIN:VEVENT
DTSTART;TZID=Europe/Berlin:20270429T080000
DTEND;TZID=Europe/Berlin:20270429T103000
DTSTAMP:20260426T044134
CREATED:20251117T143828Z
LAST-MODIFIED:20260226T130452Z
UID:10000781-1808985600-1808994600@www.gasthof-loebl.de
SUMMARY:Frühstücksbuffet von Dienstag - Sonntag
DESCRIPTION:nur nach telefonischer Voranmeldung!
URL:https://www.gasthof-loebl.de/veranstaltung/fruehstuecksbuffet-taegl-von-dienstag-sonntag/2027-04-29/
LOCATION:Gasthof Löbl\, Eschenau\, August-Wacker-Str. 25\, Eschenau\, Bayern\, 97478
ATTACH;FMTTYPE=image/jpeg:https://www.gasthof-loebl.de/wp-content/uploads/Fruehstuecksbuffet_II-scaled.jpg
END:VEVENT
BEGIN:VEVENT
DTSTART;TZID=Europe/Berlin:20270429T113000
DTEND;TZID=Europe/Berlin:20270429T150000
DTSTAMP:20260426T044134
CREATED:20251027T141250Z
LAST-MODIFIED:20260326T124641Z
UID:10000141-1808998200-1809010800@www.gasthof-loebl.de
SUMMARY:Kesselfleischessen - jeden Donnerstag
DESCRIPTION:
URL:https://www.gasthof-loebl.de/veranstaltung/kesselfleischessen-jeden-donnerstag/2027-04-29/
LOCATION:Gasthof Löbl\, Eschenau\, August-Wacker-Str. 25\, Eschenau\, Bayern\, 97478
ATTACH;FMTTYPE=image/jpeg:https://www.gasthof-loebl.de/wp-content/uploads/Kesselfleisch_II.jpg
END:VEVENT
END:VCALENDAR