BEGIN:VCALENDAR
VERSION:2.0
PRODID:-//zum Böhlgrund | Eschenau | Gasthof Löbl - ECPv6.13.2.1//NONSGML v1.0//EN
CALSCALE:GREGORIAN
METHOD:PUBLISH
X-WR-CALNAME:zum Böhlgrund | Eschenau | Gasthof Löbl
X-ORIGINAL-URL:https://www.gasthof-loebl.de
X-WR-CALDESC:Veranstaltungen für zum Böhlgrund | Eschenau | Gasthof Löbl
REFRESH-INTERVAL;VALUE=DURATION:PT1H
X-Robots-Tag:noindex
X-PUBLISHED-TTL:PT1H
BEGIN:VTIMEZONE
TZID:Europe/Berlin
BEGIN:DAYLIGHT
TZOFFSETFROM:+0100
TZOFFSETTO:+0200
TZNAME:CEST
DTSTART:20260329T010000
END:DAYLIGHT
BEGIN:STANDARD
TZOFFSETFROM:+0200
TZOFFSETTO:+0100
TZNAME:CET
DTSTART:20261025T010000
END:STANDARD
END:VTIMEZONE
BEGIN:VEVENT
DTSTART;TZID=Europe/Berlin:20260201T080000
DTEND;TZID=Europe/Berlin:20260201T103000
DTSTAMP:20260425T140139
CREATED:20251117T143828Z
LAST-MODIFIED:20260226T130452Z
UID:10000394-1769932800-1769941800@www.gasthof-loebl.de
SUMMARY:Frühstücksbuffet von Dienstag - Sonntag
DESCRIPTION:nur nach telefonischer Voranmeldung!
URL:https://www.gasthof-loebl.de/veranstaltung/fruehstuecksbuffet-taegl-von-dienstag-sonntag/2026-02-01/
LOCATION:Gasthof Löbl\, Eschenau\, August-Wacker-Str. 25\, Eschenau\, Bayern\, 97478
ATTACH;FMTTYPE=image/jpeg:https://www.gasthof-loebl.de/wp-content/uploads/Fruehstuecksbuffet_II-scaled.jpg
END:VEVENT
BEGIN:VEVENT
DTSTART;TZID=Europe/Berlin:20260203T080000
DTEND;TZID=Europe/Berlin:20260203T103000
DTSTAMP:20260425T140139
CREATED:20251117T143828Z
LAST-MODIFIED:20260226T130452Z
UID:10000395-1770105600-1770114600@www.gasthof-loebl.de
SUMMARY:Frühstücksbuffet von Dienstag - Sonntag
DESCRIPTION:nur nach telefonischer Voranmeldung!
URL:https://www.gasthof-loebl.de/veranstaltung/fruehstuecksbuffet-taegl-von-dienstag-sonntag/2026-02-03/
LOCATION:Gasthof Löbl\, Eschenau\, August-Wacker-Str. 25\, Eschenau\, Bayern\, 97478
ATTACH;FMTTYPE=image/jpeg:https://www.gasthof-loebl.de/wp-content/uploads/Fruehstuecksbuffet_II-scaled.jpg
END:VEVENT
BEGIN:VEVENT
DTSTART;TZID=Europe/Berlin:20260204T080000
DTEND;TZID=Europe/Berlin:20260204T103000
DTSTAMP:20260425T140139
CREATED:20251117T143828Z
LAST-MODIFIED:20260226T130452Z
UID:10000396-1770192000-1770201000@www.gasthof-loebl.de
SUMMARY:Frühstücksbuffet von Dienstag - Sonntag
DESCRIPTION:nur nach telefonischer Voranmeldung!
URL:https://www.gasthof-loebl.de/veranstaltung/fruehstuecksbuffet-taegl-von-dienstag-sonntag/2026-02-04/
LOCATION:Gasthof Löbl\, Eschenau\, August-Wacker-Str. 25\, Eschenau\, Bayern\, 97478
ATTACH;FMTTYPE=image/jpeg:https://www.gasthof-loebl.de/wp-content/uploads/Fruehstuecksbuffet_II-scaled.jpg
END:VEVENT
BEGIN:VEVENT
DTSTART;TZID=Europe/Berlin:20260205T080000
DTEND;TZID=Europe/Berlin:20260205T103000
DTSTAMP:20260425T140139
CREATED:20251117T143828Z
LAST-MODIFIED:20260226T130452Z
UID:10000397-1770278400-1770287400@www.gasthof-loebl.de
SUMMARY:Frühstücksbuffet von Dienstag - Sonntag
DESCRIPTION:nur nach telefonischer Voranmeldung!
URL:https://www.gasthof-loebl.de/veranstaltung/fruehstuecksbuffet-taegl-von-dienstag-sonntag/2026-02-05/
LOCATION:Gasthof Löbl\, Eschenau\, August-Wacker-Str. 25\, Eschenau\, Bayern\, 97478
ATTACH;FMTTYPE=image/jpeg:https://www.gasthof-loebl.de/wp-content/uploads/Fruehstuecksbuffet_II-scaled.jpg
END:VEVENT
BEGIN:VEVENT
DTSTART;TZID=Europe/Berlin:20260205T113000
DTEND;TZID=Europe/Berlin:20260205T150000
DTSTAMP:20260425T140139
CREATED:20251027T141250Z
LAST-MODIFIED:20260326T124641Z
UID:10000077-1770291000-1770303600@www.gasthof-loebl.de
SUMMARY:Kesselfleischessen - jeden Donnerstag
DESCRIPTION:
URL:https://www.gasthof-loebl.de/veranstaltung/kesselfleischessen-jeden-donnerstag/2026-02-05/
LOCATION:Gasthof Löbl\, Eschenau\, August-Wacker-Str. 25\, Eschenau\, Bayern\, 97478
ATTACH;FMTTYPE=image/jpeg:https://www.gasthof-loebl.de/wp-content/uploads/Kesselfleisch_II.jpg
END:VEVENT
BEGIN:VEVENT
DTSTART;TZID=Europe/Berlin:20260206T080000
DTEND;TZID=Europe/Berlin:20260206T103000
DTSTAMP:20260425T140139
CREATED:20251117T143828Z
LAST-MODIFIED:20260226T130452Z
UID:10000398-1770364800-1770373800@www.gasthof-loebl.de
SUMMARY:Frühstücksbuffet von Dienstag - Sonntag
DESCRIPTION:nur nach telefonischer Voranmeldung!
URL:https://www.gasthof-loebl.de/veranstaltung/fruehstuecksbuffet-taegl-von-dienstag-sonntag/2026-02-06/
LOCATION:Gasthof Löbl\, Eschenau\, August-Wacker-Str. 25\, Eschenau\, Bayern\, 97478
ATTACH;FMTTYPE=image/jpeg:https://www.gasthof-loebl.de/wp-content/uploads/Fruehstuecksbuffet_II-scaled.jpg
END:VEVENT
BEGIN:VEVENT
DTSTART;TZID=Europe/Berlin:20260207T080000
DTEND;TZID=Europe/Berlin:20260207T103000
DTSTAMP:20260425T140139
CREATED:20251117T143828Z
LAST-MODIFIED:20260226T130452Z
UID:10000399-1770451200-1770460200@www.gasthof-loebl.de
SUMMARY:Frühstücksbuffet von Dienstag - Sonntag
DESCRIPTION:nur nach telefonischer Voranmeldung!
URL:https://www.gasthof-loebl.de/veranstaltung/fruehstuecksbuffet-taegl-von-dienstag-sonntag/2026-02-07/
LOCATION:Gasthof Löbl\, Eschenau\, August-Wacker-Str. 25\, Eschenau\, Bayern\, 97478
ATTACH;FMTTYPE=image/jpeg:https://www.gasthof-loebl.de/wp-content/uploads/Fruehstuecksbuffet_II-scaled.jpg
END:VEVENT
BEGIN:VEVENT
DTSTART;TZID=Europe/Berlin:20260208T080000
DTEND;TZID=Europe/Berlin:20260208T103000
DTSTAMP:20260425T140139
CREATED:20251117T143828Z
LAST-MODIFIED:20260226T130452Z
UID:10000400-1770537600-1770546600@www.gasthof-loebl.de
SUMMARY:Frühstücksbuffet von Dienstag - Sonntag
DESCRIPTION:nur nach telefonischer Voranmeldung!
URL:https://www.gasthof-loebl.de/veranstaltung/fruehstuecksbuffet-taegl-von-dienstag-sonntag/2026-02-08/
LOCATION:Gasthof Löbl\, Eschenau\, August-Wacker-Str. 25\, Eschenau\, Bayern\, 97478
ATTACH;FMTTYPE=image/jpeg:https://www.gasthof-loebl.de/wp-content/uploads/Fruehstuecksbuffet_II-scaled.jpg
END:VEVENT
BEGIN:VEVENT
DTSTART;TZID=Europe/Berlin:20260210T080000
DTEND;TZID=Europe/Berlin:20260210T103000
DTSTAMP:20260425T140139
CREATED:20251117T143828Z
LAST-MODIFIED:20260226T130452Z
UID:10000401-1770710400-1770719400@www.gasthof-loebl.de
SUMMARY:Frühstücksbuffet von Dienstag - Sonntag
DESCRIPTION:nur nach telefonischer Voranmeldung!
URL:https://www.gasthof-loebl.de/veranstaltung/fruehstuecksbuffet-taegl-von-dienstag-sonntag/2026-02-10/
LOCATION:Gasthof Löbl\, Eschenau\, August-Wacker-Str. 25\, Eschenau\, Bayern\, 97478
ATTACH;FMTTYPE=image/jpeg:https://www.gasthof-loebl.de/wp-content/uploads/Fruehstuecksbuffet_II-scaled.jpg
END:VEVENT
BEGIN:VEVENT
DTSTART;TZID=Europe/Berlin:20260211T080000
DTEND;TZID=Europe/Berlin:20260211T103000
DTSTAMP:20260425T140139
CREATED:20251117T143828Z
LAST-MODIFIED:20260226T130452Z
UID:10000402-1770796800-1770805800@www.gasthof-loebl.de
SUMMARY:Frühstücksbuffet von Dienstag - Sonntag
DESCRIPTION:nur nach telefonischer Voranmeldung!
URL:https://www.gasthof-loebl.de/veranstaltung/fruehstuecksbuffet-taegl-von-dienstag-sonntag/2026-02-11/
LOCATION:Gasthof Löbl\, Eschenau\, August-Wacker-Str. 25\, Eschenau\, Bayern\, 97478
ATTACH;FMTTYPE=image/jpeg:https://www.gasthof-loebl.de/wp-content/uploads/Fruehstuecksbuffet_II-scaled.jpg
END:VEVENT
BEGIN:VEVENT
DTSTART;TZID=Europe/Berlin:20260212T080000
DTEND;TZID=Europe/Berlin:20260212T103000
DTSTAMP:20260425T140139
CREATED:20251117T143828Z
LAST-MODIFIED:20260226T130452Z
UID:10000403-1770883200-1770892200@www.gasthof-loebl.de
SUMMARY:Frühstücksbuffet von Dienstag - Sonntag
DESCRIPTION:nur nach telefonischer Voranmeldung!
URL:https://www.gasthof-loebl.de/veranstaltung/fruehstuecksbuffet-taegl-von-dienstag-sonntag/2026-02-12/
LOCATION:Gasthof Löbl\, Eschenau\, August-Wacker-Str. 25\, Eschenau\, Bayern\, 97478
ATTACH;FMTTYPE=image/jpeg:https://www.gasthof-loebl.de/wp-content/uploads/Fruehstuecksbuffet_II-scaled.jpg
END:VEVENT
BEGIN:VEVENT
DTSTART;TZID=Europe/Berlin:20260212T113000
DTEND;TZID=Europe/Berlin:20260212T150000
DTSTAMP:20260425T140139
CREATED:20251027T141250Z
LAST-MODIFIED:20260326T124641Z
UID:10000078-1770895800-1770908400@www.gasthof-loebl.de
SUMMARY:Kesselfleischessen - jeden Donnerstag
DESCRIPTION:
URL:https://www.gasthof-loebl.de/veranstaltung/kesselfleischessen-jeden-donnerstag/2026-02-12/
LOCATION:Gasthof Löbl\, Eschenau\, August-Wacker-Str. 25\, Eschenau\, Bayern\, 97478
ATTACH;FMTTYPE=image/jpeg:https://www.gasthof-loebl.de/wp-content/uploads/Kesselfleisch_II.jpg
END:VEVENT
BEGIN:VEVENT
DTSTART;TZID=Europe/Berlin:20260213T080000
DTEND;TZID=Europe/Berlin:20260213T103000
DTSTAMP:20260425T140139
CREATED:20251117T143828Z
LAST-MODIFIED:20260226T130452Z
UID:10000404-1770969600-1770978600@www.gasthof-loebl.de
SUMMARY:Frühstücksbuffet von Dienstag - Sonntag
DESCRIPTION:nur nach telefonischer Voranmeldung!
URL:https://www.gasthof-loebl.de/veranstaltung/fruehstuecksbuffet-taegl-von-dienstag-sonntag/2026-02-13/
LOCATION:Gasthof Löbl\, Eschenau\, August-Wacker-Str. 25\, Eschenau\, Bayern\, 97478
ATTACH;FMTTYPE=image/jpeg:https://www.gasthof-loebl.de/wp-content/uploads/Fruehstuecksbuffet_II-scaled.jpg
END:VEVENT
BEGIN:VEVENT
DTSTART;TZID=Europe/Berlin:20260214T080000
DTEND;TZID=Europe/Berlin:20260214T103000
DTSTAMP:20260425T140139
CREATED:20251117T143828Z
LAST-MODIFIED:20260226T130452Z
UID:10000405-1771056000-1771065000@www.gasthof-loebl.de
SUMMARY:Frühstücksbuffet von Dienstag - Sonntag
DESCRIPTION:nur nach telefonischer Voranmeldung!
URL:https://www.gasthof-loebl.de/veranstaltung/fruehstuecksbuffet-taegl-von-dienstag-sonntag/2026-02-14/
LOCATION:Gasthof Löbl\, Eschenau\, August-Wacker-Str. 25\, Eschenau\, Bayern\, 97478
ATTACH;FMTTYPE=image/jpeg:https://www.gasthof-loebl.de/wp-content/uploads/Fruehstuecksbuffet_II-scaled.jpg
END:VEVENT
BEGIN:VEVENT
DTSTART;TZID=Europe/Berlin:20260215T080000
DTEND;TZID=Europe/Berlin:20260215T103000
DTSTAMP:20260425T140140
CREATED:20251117T143828Z
LAST-MODIFIED:20260226T130452Z
UID:10000406-1771142400-1771151400@www.gasthof-loebl.de
SUMMARY:Frühstücksbuffet von Dienstag - Sonntag
DESCRIPTION:nur nach telefonischer Voranmeldung!
URL:https://www.gasthof-loebl.de/veranstaltung/fruehstuecksbuffet-taegl-von-dienstag-sonntag/2026-02-15/
LOCATION:Gasthof Löbl\, Eschenau\, August-Wacker-Str. 25\, Eschenau\, Bayern\, 97478
ATTACH;FMTTYPE=image/jpeg:https://www.gasthof-loebl.de/wp-content/uploads/Fruehstuecksbuffet_II-scaled.jpg
END:VEVENT
BEGIN:VEVENT
DTSTART;TZID=Europe/Berlin:20260217T080000
DTEND;TZID=Europe/Berlin:20260217T103000
DTSTAMP:20260425T140140
CREATED:20251117T143828Z
LAST-MODIFIED:20260226T130452Z
UID:10000407-1771315200-1771324200@www.gasthof-loebl.de
SUMMARY:Frühstücksbuffet von Dienstag - Sonntag
DESCRIPTION:nur nach telefonischer Voranmeldung!
URL:https://www.gasthof-loebl.de/veranstaltung/fruehstuecksbuffet-taegl-von-dienstag-sonntag/2026-02-17/
LOCATION:Gasthof Löbl\, Eschenau\, August-Wacker-Str. 25\, Eschenau\, Bayern\, 97478
ATTACH;FMTTYPE=image/jpeg:https://www.gasthof-loebl.de/wp-content/uploads/Fruehstuecksbuffet_II-scaled.jpg
END:VEVENT
BEGIN:VEVENT
DTSTART;TZID=Europe/Berlin:20260218T080000
DTEND;TZID=Europe/Berlin:20260218T103000
DTSTAMP:20260425T140140
CREATED:20251117T143828Z
LAST-MODIFIED:20260226T130452Z
UID:10000408-1771401600-1771410600@www.gasthof-loebl.de
SUMMARY:Frühstücksbuffet von Dienstag - Sonntag
DESCRIPTION:nur nach telefonischer Voranmeldung!
URL:https://www.gasthof-loebl.de/veranstaltung/fruehstuecksbuffet-taegl-von-dienstag-sonntag/2026-02-18/
LOCATION:Gasthof Löbl\, Eschenau\, August-Wacker-Str. 25\, Eschenau\, Bayern\, 97478
ATTACH;FMTTYPE=image/jpeg:https://www.gasthof-loebl.de/wp-content/uploads/Fruehstuecksbuffet_II-scaled.jpg
END:VEVENT
BEGIN:VEVENT
DTSTART;TZID=Europe/Berlin:20260219T080000
DTEND;TZID=Europe/Berlin:20260219T103000
DTSTAMP:20260425T140140
CREATED:20251117T143828Z
LAST-MODIFIED:20260226T130452Z
UID:10000409-1771488000-1771497000@www.gasthof-loebl.de
SUMMARY:Frühstücksbuffet von Dienstag - Sonntag
DESCRIPTION:nur nach telefonischer Voranmeldung!
URL:https://www.gasthof-loebl.de/veranstaltung/fruehstuecksbuffet-taegl-von-dienstag-sonntag/2026-02-19/
LOCATION:Gasthof Löbl\, Eschenau\, August-Wacker-Str. 25\, Eschenau\, Bayern\, 97478
ATTACH;FMTTYPE=image/jpeg:https://www.gasthof-loebl.de/wp-content/uploads/Fruehstuecksbuffet_II-scaled.jpg
END:VEVENT
BEGIN:VEVENT
DTSTART;TZID=Europe/Berlin:20260219T113000
DTEND;TZID=Europe/Berlin:20260219T150000
DTSTAMP:20260425T140140
CREATED:20251027T141250Z
LAST-MODIFIED:20260326T124641Z
UID:10000079-1771500600-1771513200@www.gasthof-loebl.de
SUMMARY:Kesselfleischessen - jeden Donnerstag
DESCRIPTION:
URL:https://www.gasthof-loebl.de/veranstaltung/kesselfleischessen-jeden-donnerstag/2026-02-19/
LOCATION:Gasthof Löbl\, Eschenau\, August-Wacker-Str. 25\, Eschenau\, Bayern\, 97478
ATTACH;FMTTYPE=image/jpeg:https://www.gasthof-loebl.de/wp-content/uploads/Kesselfleisch_II.jpg
END:VEVENT
BEGIN:VEVENT
DTSTART;TZID=Europe/Berlin:20260220T080000
DTEND;TZID=Europe/Berlin:20260220T103000
DTSTAMP:20260425T140140
CREATED:20251117T143828Z
LAST-MODIFIED:20260226T130452Z
UID:10000410-1771574400-1771583400@www.gasthof-loebl.de
SUMMARY:Frühstücksbuffet von Dienstag - Sonntag
DESCRIPTION:nur nach telefonischer Voranmeldung!
URL:https://www.gasthof-loebl.de/veranstaltung/fruehstuecksbuffet-taegl-von-dienstag-sonntag/2026-02-20/
LOCATION:Gasthof Löbl\, Eschenau\, August-Wacker-Str. 25\, Eschenau\, Bayern\, 97478
ATTACH;FMTTYPE=image/jpeg:https://www.gasthof-loebl.de/wp-content/uploads/Fruehstuecksbuffet_II-scaled.jpg
END:VEVENT
BEGIN:VEVENT
DTSTART;TZID=Europe/Berlin:20260221T080000
DTEND;TZID=Europe/Berlin:20260221T103000
DTSTAMP:20260425T140140
CREATED:20251117T143828Z
LAST-MODIFIED:20260226T130452Z
UID:10000411-1771660800-1771669800@www.gasthof-loebl.de
SUMMARY:Frühstücksbuffet von Dienstag - Sonntag
DESCRIPTION:nur nach telefonischer Voranmeldung!
URL:https://www.gasthof-loebl.de/veranstaltung/fruehstuecksbuffet-taegl-von-dienstag-sonntag/2026-02-21/
LOCATION:Gasthof Löbl\, Eschenau\, August-Wacker-Str. 25\, Eschenau\, Bayern\, 97478
ATTACH;FMTTYPE=image/jpeg:https://www.gasthof-loebl.de/wp-content/uploads/Fruehstuecksbuffet_II-scaled.jpg
END:VEVENT
BEGIN:VEVENT
DTSTART;TZID=Europe/Berlin:20260222T080000
DTEND;TZID=Europe/Berlin:20260222T103000
DTSTAMP:20260425T140140
CREATED:20251117T143828Z
LAST-MODIFIED:20260226T130452Z
UID:10000412-1771747200-1771756200@www.gasthof-loebl.de
SUMMARY:Frühstücksbuffet von Dienstag - Sonntag
DESCRIPTION:nur nach telefonischer Voranmeldung!
URL:https://www.gasthof-loebl.de/veranstaltung/fruehstuecksbuffet-taegl-von-dienstag-sonntag/2026-02-22/
LOCATION:Gasthof Löbl\, Eschenau\, August-Wacker-Str. 25\, Eschenau\, Bayern\, 97478
ATTACH;FMTTYPE=image/jpeg:https://www.gasthof-loebl.de/wp-content/uploads/Fruehstuecksbuffet_II-scaled.jpg
END:VEVENT
BEGIN:VEVENT
DTSTART;TZID=Europe/Berlin:20260224T080000
DTEND;TZID=Europe/Berlin:20260224T103000
DTSTAMP:20260425T140140
CREATED:20251117T143828Z
LAST-MODIFIED:20260226T130452Z
UID:10000413-1771920000-1771929000@www.gasthof-loebl.de
SUMMARY:Frühstücksbuffet von Dienstag - Sonntag
DESCRIPTION:nur nach telefonischer Voranmeldung!
URL:https://www.gasthof-loebl.de/veranstaltung/fruehstuecksbuffet-taegl-von-dienstag-sonntag/2026-02-24/
LOCATION:Gasthof Löbl\, Eschenau\, August-Wacker-Str. 25\, Eschenau\, Bayern\, 97478
ATTACH;FMTTYPE=image/jpeg:https://www.gasthof-loebl.de/wp-content/uploads/Fruehstuecksbuffet_II-scaled.jpg
END:VEVENT
BEGIN:VEVENT
DTSTART;TZID=Europe/Berlin:20260225T080000
DTEND;TZID=Europe/Berlin:20260225T103000
DTSTAMP:20260425T140140
CREATED:20251117T143828Z
LAST-MODIFIED:20260226T130452Z
UID:10000414-1772006400-1772015400@www.gasthof-loebl.de
SUMMARY:Frühstücksbuffet von Dienstag - Sonntag
DESCRIPTION:nur nach telefonischer Voranmeldung!
URL:https://www.gasthof-loebl.de/veranstaltung/fruehstuecksbuffet-taegl-von-dienstag-sonntag/2026-02-25/
LOCATION:Gasthof Löbl\, Eschenau\, August-Wacker-Str. 25\, Eschenau\, Bayern\, 97478
ATTACH;FMTTYPE=image/jpeg:https://www.gasthof-loebl.de/wp-content/uploads/Fruehstuecksbuffet_II-scaled.jpg
END:VEVENT
BEGIN:VEVENT
DTSTART;TZID=Europe/Berlin:20260226T080000
DTEND;TZID=Europe/Berlin:20260226T103000
DTSTAMP:20260425T140140
CREATED:20251117T143828Z
LAST-MODIFIED:20260226T130452Z
UID:10000415-1772092800-1772101800@www.gasthof-loebl.de
SUMMARY:Frühstücksbuffet von Dienstag - Sonntag
DESCRIPTION:nur nach telefonischer Voranmeldung!
URL:https://www.gasthof-loebl.de/veranstaltung/fruehstuecksbuffet-taegl-von-dienstag-sonntag/2026-02-26/
LOCATION:Gasthof Löbl\, Eschenau\, August-Wacker-Str. 25\, Eschenau\, Bayern\, 97478
ATTACH;FMTTYPE=image/jpeg:https://www.gasthof-loebl.de/wp-content/uploads/Fruehstuecksbuffet_II-scaled.jpg
END:VEVENT
BEGIN:VEVENT
DTSTART;TZID=Europe/Berlin:20260226T113000
DTEND;TZID=Europe/Berlin:20260226T150000
DTSTAMP:20260425T140140
CREATED:20251027T141250Z
LAST-MODIFIED:20260326T124641Z
UID:10000080-1772105400-1772118000@www.gasthof-loebl.de
SUMMARY:Kesselfleischessen - jeden Donnerstag
DESCRIPTION:
URL:https://www.gasthof-loebl.de/veranstaltung/kesselfleischessen-jeden-donnerstag/2026-02-26/
LOCATION:Gasthof Löbl\, Eschenau\, August-Wacker-Str. 25\, Eschenau\, Bayern\, 97478
ATTACH;FMTTYPE=image/jpeg:https://www.gasthof-loebl.de/wp-content/uploads/Kesselfleisch_II.jpg
END:VEVENT
BEGIN:VEVENT
DTSTART;TZID=Europe/Berlin:20260227T080000
DTEND;TZID=Europe/Berlin:20260227T103000
DTSTAMP:20260425T140140
CREATED:20251117T143828Z
LAST-MODIFIED:20260226T130452Z
UID:10000416-1772179200-1772188200@www.gasthof-loebl.de
SUMMARY:Frühstücksbuffet von Dienstag - Sonntag
DESCRIPTION:nur nach telefonischer Voranmeldung!
URL:https://www.gasthof-loebl.de/veranstaltung/fruehstuecksbuffet-taegl-von-dienstag-sonntag/2026-02-27/
LOCATION:Gasthof Löbl\, Eschenau\, August-Wacker-Str. 25\, Eschenau\, Bayern\, 97478
ATTACH;FMTTYPE=image/jpeg:https://www.gasthof-loebl.de/wp-content/uploads/Fruehstuecksbuffet_II-scaled.jpg
END:VEVENT
BEGIN:VEVENT
DTSTART;TZID=Europe/Berlin:20260228T080000
DTEND;TZID=Europe/Berlin:20260228T103000
DTSTAMP:20260425T140140
CREATED:20251117T143828Z
LAST-MODIFIED:20260226T130452Z
UID:10000417-1772265600-1772274600@www.gasthof-loebl.de
SUMMARY:Frühstücksbuffet von Dienstag - Sonntag
DESCRIPTION:nur nach telefonischer Voranmeldung!
URL:https://www.gasthof-loebl.de/veranstaltung/fruehstuecksbuffet-taegl-von-dienstag-sonntag/2026-02-28/
LOCATION:Gasthof Löbl\, Eschenau\, August-Wacker-Str. 25\, Eschenau\, Bayern\, 97478
ATTACH;FMTTYPE=image/jpeg:https://www.gasthof-loebl.de/wp-content/uploads/Fruehstuecksbuffet_II-scaled.jpg
END:VEVENT
END:VCALENDAR