BEGIN:VCALENDAR
VERSION:2.0
PRODID:-//zum Böhlgrund | Eschenau | Gasthof Löbl - ECPv6.13.2.1//NONSGML v1.0//EN
CALSCALE:GREGORIAN
METHOD:PUBLISH
X-ORIGINAL-URL:https://www.gasthof-loebl.de
X-WR-CALDESC:Veranstaltungen für zum Böhlgrund | Eschenau | Gasthof Löbl
REFRESH-INTERVAL;VALUE=DURATION:PT1H
X-Robots-Tag:noindex
X-PUBLISHED-TTL:PT1H
BEGIN:VTIMEZONE
TZID:Europe/Berlin
BEGIN:DAYLIGHT
TZOFFSETFROM:+0100
TZOFFSETTO:+0200
TZNAME:CEST
DTSTART:20250330T010000
END:DAYLIGHT
BEGIN:STANDARD
TZOFFSETFROM:+0200
TZOFFSETTO:+0100
TZNAME:CET
DTSTART:20251026T010000
END:STANDARD
BEGIN:DAYLIGHT
TZOFFSETFROM:+0100
TZOFFSETTO:+0200
TZNAME:CEST
DTSTART:20260329T010000
END:DAYLIGHT
BEGIN:STANDARD
TZOFFSETFROM:+0200
TZOFFSETTO:+0100
TZNAME:CET
DTSTART:20261025T010000
END:STANDARD
END:VTIMEZONE
BEGIN:VEVENT
DTSTART;VALUE=DATE:20251231
DTEND;VALUE=DATE:20260105
DTSTAMP:20260425T150944
CREATED:20251118T121354Z
LAST-MODIFIED:20251118T121604Z
UID:10001895-1767139200-1767571199@www.gasthof-loebl.de
SUMMARY:Silvesterarrangement: Übernachtungansangebot vom 31.12. 2025 - einschl. 04.01.2026
DESCRIPTION:Verbringen Sie den Jahreswechsel in gemütlicher Atmosphäre.\nEs erwarten Sie ein reichhaltiges Frühstücksbuffet\, Relaxen und Erholen in naturnaher Umgebung.\nZeit zum Lesen\, Wandern\, Zeit für ausgedehnte Spaziergänge.\nStärken Sie sich am Abend á la carte.\n\nPreis im DZ/ 4 Übernachtungen: 319 €.\nPreis im EZ / 4 Übernachtungen: 199 €.\n  \n 
URL:https://www.gasthof-loebl.de/veranstaltung/silvesterarrangement-uebernachtungansangebot-vom-31-12-2025-einschl-04-01-2026/
LOCATION:Gasthof Löbl\, Eschenau\, August-Wacker-Str. 25\, Eschenau\, Bayern\, 97478
END:VEVENT
BEGIN:VEVENT
DTSTART;TZID=Europe/Berlin:20260106T080000
DTEND;TZID=Europe/Berlin:20260106T103000
DTSTAMP:20260425T150944
CREATED:20251117T143828Z
LAST-MODIFIED:20260226T130452Z
UID:10000371-1767686400-1767695400@www.gasthof-loebl.de
SUMMARY:Frühstücksbuffet von Dienstag - Sonntag
DESCRIPTION:nur nach telefonischer Voranmeldung!
URL:https://www.gasthof-loebl.de/veranstaltung/fruehstuecksbuffet-taegl-von-dienstag-sonntag/2026-01-06/
LOCATION:Gasthof Löbl\, Eschenau\, August-Wacker-Str. 25\, Eschenau\, Bayern\, 97478
ATTACH;FMTTYPE=image/jpeg:https://www.gasthof-loebl.de/wp-content/uploads/Fruehstuecksbuffet_II-scaled.jpg
END:VEVENT
BEGIN:VEVENT
DTSTART;TZID=Europe/Berlin:20260107T080000
DTEND;TZID=Europe/Berlin:20260107T103000
DTSTAMP:20260425T150944
CREATED:20251117T143828Z
LAST-MODIFIED:20260226T130452Z
UID:10000372-1767772800-1767781800@www.gasthof-loebl.de
SUMMARY:Frühstücksbuffet von Dienstag - Sonntag
DESCRIPTION:nur nach telefonischer Voranmeldung!
URL:https://www.gasthof-loebl.de/veranstaltung/fruehstuecksbuffet-taegl-von-dienstag-sonntag/2026-01-07/
LOCATION:Gasthof Löbl\, Eschenau\, August-Wacker-Str. 25\, Eschenau\, Bayern\, 97478
ATTACH;FMTTYPE=image/jpeg:https://www.gasthof-loebl.de/wp-content/uploads/Fruehstuecksbuffet_II-scaled.jpg
END:VEVENT
BEGIN:VEVENT
DTSTART;TZID=Europe/Berlin:20260108T080000
DTEND;TZID=Europe/Berlin:20260108T103000
DTSTAMP:20260425T150944
CREATED:20251117T143828Z
LAST-MODIFIED:20260226T130452Z
UID:10000373-1767859200-1767868200@www.gasthof-loebl.de
SUMMARY:Frühstücksbuffet von Dienstag - Sonntag
DESCRIPTION:nur nach telefonischer Voranmeldung!
URL:https://www.gasthof-loebl.de/veranstaltung/fruehstuecksbuffet-taegl-von-dienstag-sonntag/2026-01-08/
LOCATION:Gasthof Löbl\, Eschenau\, August-Wacker-Str. 25\, Eschenau\, Bayern\, 97478
ATTACH;FMTTYPE=image/jpeg:https://www.gasthof-loebl.de/wp-content/uploads/Fruehstuecksbuffet_II-scaled.jpg
END:VEVENT
BEGIN:VEVENT
DTSTART;TZID=Europe/Berlin:20260108T113000
DTEND;TZID=Europe/Berlin:20260108T150000
DTSTAMP:20260425T150944
CREATED:20251027T141250Z
LAST-MODIFIED:20260326T124641Z
UID:10000073-1767871800-1767884400@www.gasthof-loebl.de
SUMMARY:Kesselfleischessen - jeden Donnerstag
DESCRIPTION:
URL:https://www.gasthof-loebl.de/veranstaltung/kesselfleischessen-jeden-donnerstag/2026-01-08/
LOCATION:Gasthof Löbl\, Eschenau\, August-Wacker-Str. 25\, Eschenau\, Bayern\, 97478
ATTACH;FMTTYPE=image/jpeg:https://www.gasthof-loebl.de/wp-content/uploads/Kesselfleisch_II.jpg
END:VEVENT
BEGIN:VEVENT
DTSTART;TZID=Europe/Berlin:20260109T080000
DTEND;TZID=Europe/Berlin:20260109T103000
DTSTAMP:20260425T150944
CREATED:20251117T143828Z
LAST-MODIFIED:20260226T130452Z
UID:10000374-1767945600-1767954600@www.gasthof-loebl.de
SUMMARY:Frühstücksbuffet von Dienstag - Sonntag
DESCRIPTION:nur nach telefonischer Voranmeldung!
URL:https://www.gasthof-loebl.de/veranstaltung/fruehstuecksbuffet-taegl-von-dienstag-sonntag/2026-01-09/
LOCATION:Gasthof Löbl\, Eschenau\, August-Wacker-Str. 25\, Eschenau\, Bayern\, 97478
ATTACH;FMTTYPE=image/jpeg:https://www.gasthof-loebl.de/wp-content/uploads/Fruehstuecksbuffet_II-scaled.jpg
END:VEVENT
BEGIN:VEVENT
DTSTART;TZID=Europe/Berlin:20260110T080000
DTEND;TZID=Europe/Berlin:20260110T103000
DTSTAMP:20260425T150944
CREATED:20251117T143828Z
LAST-MODIFIED:20260226T130452Z
UID:10000375-1768032000-1768041000@www.gasthof-loebl.de
SUMMARY:Frühstücksbuffet von Dienstag - Sonntag
DESCRIPTION:nur nach telefonischer Voranmeldung!
URL:https://www.gasthof-loebl.de/veranstaltung/fruehstuecksbuffet-taegl-von-dienstag-sonntag/2026-01-10/
LOCATION:Gasthof Löbl\, Eschenau\, August-Wacker-Str. 25\, Eschenau\, Bayern\, 97478
ATTACH;FMTTYPE=image/jpeg:https://www.gasthof-loebl.de/wp-content/uploads/Fruehstuecksbuffet_II-scaled.jpg
END:VEVENT
BEGIN:VEVENT
DTSTART;TZID=Europe/Berlin:20260111T080000
DTEND;TZID=Europe/Berlin:20260111T103000
DTSTAMP:20260425T150944
CREATED:20251117T143828Z
LAST-MODIFIED:20260226T130452Z
UID:10000376-1768118400-1768127400@www.gasthof-loebl.de
SUMMARY:Frühstücksbuffet von Dienstag - Sonntag
DESCRIPTION:nur nach telefonischer Voranmeldung!
URL:https://www.gasthof-loebl.de/veranstaltung/fruehstuecksbuffet-taegl-von-dienstag-sonntag/2026-01-11/
LOCATION:Gasthof Löbl\, Eschenau\, August-Wacker-Str. 25\, Eschenau\, Bayern\, 97478
ATTACH;FMTTYPE=image/jpeg:https://www.gasthof-loebl.de/wp-content/uploads/Fruehstuecksbuffet_II-scaled.jpg
END:VEVENT
BEGIN:VEVENT
DTSTART;TZID=Europe/Berlin:20260113T080000
DTEND;TZID=Europe/Berlin:20260113T103000
DTSTAMP:20260425T150944
CREATED:20251117T143828Z
LAST-MODIFIED:20260226T130452Z
UID:10000377-1768291200-1768300200@www.gasthof-loebl.de
SUMMARY:Frühstücksbuffet von Dienstag - Sonntag
DESCRIPTION:nur nach telefonischer Voranmeldung!
URL:https://www.gasthof-loebl.de/veranstaltung/fruehstuecksbuffet-taegl-von-dienstag-sonntag/2026-01-13/
LOCATION:Gasthof Löbl\, Eschenau\, August-Wacker-Str. 25\, Eschenau\, Bayern\, 97478
ATTACH;FMTTYPE=image/jpeg:https://www.gasthof-loebl.de/wp-content/uploads/Fruehstuecksbuffet_II-scaled.jpg
END:VEVENT
BEGIN:VEVENT
DTSTART;TZID=Europe/Berlin:20260114T080000
DTEND;TZID=Europe/Berlin:20260114T103000
DTSTAMP:20260425T150944
CREATED:20251117T143828Z
LAST-MODIFIED:20260226T130452Z
UID:10000378-1768377600-1768386600@www.gasthof-loebl.de
SUMMARY:Frühstücksbuffet von Dienstag - Sonntag
DESCRIPTION:nur nach telefonischer Voranmeldung!
URL:https://www.gasthof-loebl.de/veranstaltung/fruehstuecksbuffet-taegl-von-dienstag-sonntag/2026-01-14/
LOCATION:Gasthof Löbl\, Eschenau\, August-Wacker-Str. 25\, Eschenau\, Bayern\, 97478
ATTACH;FMTTYPE=image/jpeg:https://www.gasthof-loebl.de/wp-content/uploads/Fruehstuecksbuffet_II-scaled.jpg
END:VEVENT
BEGIN:VEVENT
DTSTART;TZID=Europe/Berlin:20260115T080000
DTEND;TZID=Europe/Berlin:20260115T103000
DTSTAMP:20260425T150944
CREATED:20251117T143828Z
LAST-MODIFIED:20260226T130452Z
UID:10000379-1768464000-1768473000@www.gasthof-loebl.de
SUMMARY:Frühstücksbuffet von Dienstag - Sonntag
DESCRIPTION:nur nach telefonischer Voranmeldung!
URL:https://www.gasthof-loebl.de/veranstaltung/fruehstuecksbuffet-taegl-von-dienstag-sonntag/2026-01-15/
LOCATION:Gasthof Löbl\, Eschenau\, August-Wacker-Str. 25\, Eschenau\, Bayern\, 97478
ATTACH;FMTTYPE=image/jpeg:https://www.gasthof-loebl.de/wp-content/uploads/Fruehstuecksbuffet_II-scaled.jpg
END:VEVENT
BEGIN:VEVENT
DTSTART;TZID=Europe/Berlin:20260115T113000
DTEND;TZID=Europe/Berlin:20260115T150000
DTSTAMP:20260425T150944
CREATED:20251027T141250Z
LAST-MODIFIED:20260326T124641Z
UID:10000074-1768476600-1768489200@www.gasthof-loebl.de
SUMMARY:Kesselfleischessen - jeden Donnerstag
DESCRIPTION:
URL:https://www.gasthof-loebl.de/veranstaltung/kesselfleischessen-jeden-donnerstag/2026-01-15/
LOCATION:Gasthof Löbl\, Eschenau\, August-Wacker-Str. 25\, Eschenau\, Bayern\, 97478
ATTACH;FMTTYPE=image/jpeg:https://www.gasthof-loebl.de/wp-content/uploads/Kesselfleisch_II.jpg
END:VEVENT
BEGIN:VEVENT
DTSTART;TZID=Europe/Berlin:20260116T080000
DTEND;TZID=Europe/Berlin:20260116T103000
DTSTAMP:20260425T150944
CREATED:20251117T143828Z
LAST-MODIFIED:20260226T130452Z
UID:10000380-1768550400-1768559400@www.gasthof-loebl.de
SUMMARY:Frühstücksbuffet von Dienstag - Sonntag
DESCRIPTION:nur nach telefonischer Voranmeldung!
URL:https://www.gasthof-loebl.de/veranstaltung/fruehstuecksbuffet-taegl-von-dienstag-sonntag/2026-01-16/
LOCATION:Gasthof Löbl\, Eschenau\, August-Wacker-Str. 25\, Eschenau\, Bayern\, 97478
ATTACH;FMTTYPE=image/jpeg:https://www.gasthof-loebl.de/wp-content/uploads/Fruehstuecksbuffet_II-scaled.jpg
END:VEVENT
BEGIN:VEVENT
DTSTART;TZID=Europe/Berlin:20260117T080000
DTEND;TZID=Europe/Berlin:20260117T103000
DTSTAMP:20260425T150944
CREATED:20251117T143828Z
LAST-MODIFIED:20260226T130452Z
UID:10000381-1768636800-1768645800@www.gasthof-loebl.de
SUMMARY:Frühstücksbuffet von Dienstag - Sonntag
DESCRIPTION:nur nach telefonischer Voranmeldung!
URL:https://www.gasthof-loebl.de/veranstaltung/fruehstuecksbuffet-taegl-von-dienstag-sonntag/2026-01-17/
LOCATION:Gasthof Löbl\, Eschenau\, August-Wacker-Str. 25\, Eschenau\, Bayern\, 97478
ATTACH;FMTTYPE=image/jpeg:https://www.gasthof-loebl.de/wp-content/uploads/Fruehstuecksbuffet_II-scaled.jpg
END:VEVENT
BEGIN:VEVENT
DTSTART;TZID=Europe/Berlin:20260118T080000
DTEND;TZID=Europe/Berlin:20260118T103000
DTSTAMP:20260425T150944
CREATED:20251117T143828Z
LAST-MODIFIED:20260226T130452Z
UID:10000382-1768723200-1768732200@www.gasthof-loebl.de
SUMMARY:Frühstücksbuffet von Dienstag - Sonntag
DESCRIPTION:nur nach telefonischer Voranmeldung!
URL:https://www.gasthof-loebl.de/veranstaltung/fruehstuecksbuffet-taegl-von-dienstag-sonntag/2026-01-18/
LOCATION:Gasthof Löbl\, Eschenau\, August-Wacker-Str. 25\, Eschenau\, Bayern\, 97478
ATTACH;FMTTYPE=image/jpeg:https://www.gasthof-loebl.de/wp-content/uploads/Fruehstuecksbuffet_II-scaled.jpg
END:VEVENT
BEGIN:VEVENT
DTSTART;TZID=Europe/Berlin:20260120T080000
DTEND;TZID=Europe/Berlin:20260120T103000
DTSTAMP:20260425T150944
CREATED:20251117T143828Z
LAST-MODIFIED:20260226T130452Z
UID:10000383-1768896000-1768905000@www.gasthof-loebl.de
SUMMARY:Frühstücksbuffet von Dienstag - Sonntag
DESCRIPTION:nur nach telefonischer Voranmeldung!
URL:https://www.gasthof-loebl.de/veranstaltung/fruehstuecksbuffet-taegl-von-dienstag-sonntag/2026-01-20/
LOCATION:Gasthof Löbl\, Eschenau\, August-Wacker-Str. 25\, Eschenau\, Bayern\, 97478
ATTACH;FMTTYPE=image/jpeg:https://www.gasthof-loebl.de/wp-content/uploads/Fruehstuecksbuffet_II-scaled.jpg
END:VEVENT
BEGIN:VEVENT
DTSTART;TZID=Europe/Berlin:20260121T080000
DTEND;TZID=Europe/Berlin:20260121T103000
DTSTAMP:20260425T150944
CREATED:20251117T143828Z
LAST-MODIFIED:20260226T130452Z
UID:10000384-1768982400-1768991400@www.gasthof-loebl.de
SUMMARY:Frühstücksbuffet von Dienstag - Sonntag
DESCRIPTION:nur nach telefonischer Voranmeldung!
URL:https://www.gasthof-loebl.de/veranstaltung/fruehstuecksbuffet-taegl-von-dienstag-sonntag/2026-01-21/
LOCATION:Gasthof Löbl\, Eschenau\, August-Wacker-Str. 25\, Eschenau\, Bayern\, 97478
ATTACH;FMTTYPE=image/jpeg:https://www.gasthof-loebl.de/wp-content/uploads/Fruehstuecksbuffet_II-scaled.jpg
END:VEVENT
BEGIN:VEVENT
DTSTART;TZID=Europe/Berlin:20260122T080000
DTEND;TZID=Europe/Berlin:20260122T103000
DTSTAMP:20260425T150944
CREATED:20251117T143828Z
LAST-MODIFIED:20260226T130452Z
UID:10000385-1769068800-1769077800@www.gasthof-loebl.de
SUMMARY:Frühstücksbuffet von Dienstag - Sonntag
DESCRIPTION:nur nach telefonischer Voranmeldung!
URL:https://www.gasthof-loebl.de/veranstaltung/fruehstuecksbuffet-taegl-von-dienstag-sonntag/2026-01-22/
LOCATION:Gasthof Löbl\, Eschenau\, August-Wacker-Str. 25\, Eschenau\, Bayern\, 97478
ATTACH;FMTTYPE=image/jpeg:https://www.gasthof-loebl.de/wp-content/uploads/Fruehstuecksbuffet_II-scaled.jpg
END:VEVENT
BEGIN:VEVENT
DTSTART;TZID=Europe/Berlin:20260122T113000
DTEND;TZID=Europe/Berlin:20260122T150000
DTSTAMP:20260425T150944
CREATED:20251027T141250Z
LAST-MODIFIED:20260326T124641Z
UID:10000075-1769081400-1769094000@www.gasthof-loebl.de
SUMMARY:Kesselfleischessen - jeden Donnerstag
DESCRIPTION:
URL:https://www.gasthof-loebl.de/veranstaltung/kesselfleischessen-jeden-donnerstag/2026-01-22/
LOCATION:Gasthof Löbl\, Eschenau\, August-Wacker-Str. 25\, Eschenau\, Bayern\, 97478
ATTACH;FMTTYPE=image/jpeg:https://www.gasthof-loebl.de/wp-content/uploads/Kesselfleisch_II.jpg
END:VEVENT
BEGIN:VEVENT
DTSTART;TZID=Europe/Berlin:20260123T080000
DTEND;TZID=Europe/Berlin:20260123T103000
DTSTAMP:20260425T150944
CREATED:20251117T143828Z
LAST-MODIFIED:20260226T130452Z
UID:10000386-1769155200-1769164200@www.gasthof-loebl.de
SUMMARY:Frühstücksbuffet von Dienstag - Sonntag
DESCRIPTION:nur nach telefonischer Voranmeldung!
URL:https://www.gasthof-loebl.de/veranstaltung/fruehstuecksbuffet-taegl-von-dienstag-sonntag/2026-01-23/
LOCATION:Gasthof Löbl\, Eschenau\, August-Wacker-Str. 25\, Eschenau\, Bayern\, 97478
ATTACH;FMTTYPE=image/jpeg:https://www.gasthof-loebl.de/wp-content/uploads/Fruehstuecksbuffet_II-scaled.jpg
END:VEVENT
BEGIN:VEVENT
DTSTART;TZID=Europe/Berlin:20260124T080000
DTEND;TZID=Europe/Berlin:20260124T103000
DTSTAMP:20260425T150944
CREATED:20251117T143828Z
LAST-MODIFIED:20260226T130452Z
UID:10000387-1769241600-1769250600@www.gasthof-loebl.de
SUMMARY:Frühstücksbuffet von Dienstag - Sonntag
DESCRIPTION:nur nach telefonischer Voranmeldung!
URL:https://www.gasthof-loebl.de/veranstaltung/fruehstuecksbuffet-taegl-von-dienstag-sonntag/2026-01-24/
LOCATION:Gasthof Löbl\, Eschenau\, August-Wacker-Str. 25\, Eschenau\, Bayern\, 97478
ATTACH;FMTTYPE=image/jpeg:https://www.gasthof-loebl.de/wp-content/uploads/Fruehstuecksbuffet_II-scaled.jpg
END:VEVENT
BEGIN:VEVENT
DTSTART;TZID=Europe/Berlin:20260125T080000
DTEND;TZID=Europe/Berlin:20260125T103000
DTSTAMP:20260425T150944
CREATED:20251117T143828Z
LAST-MODIFIED:20260226T130452Z
UID:10000388-1769328000-1769337000@www.gasthof-loebl.de
SUMMARY:Frühstücksbuffet von Dienstag - Sonntag
DESCRIPTION:nur nach telefonischer Voranmeldung!
URL:https://www.gasthof-loebl.de/veranstaltung/fruehstuecksbuffet-taegl-von-dienstag-sonntag/2026-01-25/
LOCATION:Gasthof Löbl\, Eschenau\, August-Wacker-Str. 25\, Eschenau\, Bayern\, 97478
ATTACH;FMTTYPE=image/jpeg:https://www.gasthof-loebl.de/wp-content/uploads/Fruehstuecksbuffet_II-scaled.jpg
END:VEVENT
BEGIN:VEVENT
DTSTART;TZID=Europe/Berlin:20260127T080000
DTEND;TZID=Europe/Berlin:20260127T103000
DTSTAMP:20260425T150944
CREATED:20251117T143828Z
LAST-MODIFIED:20260226T130452Z
UID:10000389-1769500800-1769509800@www.gasthof-loebl.de
SUMMARY:Frühstücksbuffet von Dienstag - Sonntag
DESCRIPTION:nur nach telefonischer Voranmeldung!
URL:https://www.gasthof-loebl.de/veranstaltung/fruehstuecksbuffet-taegl-von-dienstag-sonntag/2026-01-27/
LOCATION:Gasthof Löbl\, Eschenau\, August-Wacker-Str. 25\, Eschenau\, Bayern\, 97478
ATTACH;FMTTYPE=image/jpeg:https://www.gasthof-loebl.de/wp-content/uploads/Fruehstuecksbuffet_II-scaled.jpg
END:VEVENT
BEGIN:VEVENT
DTSTART;TZID=Europe/Berlin:20260128T080000
DTEND;TZID=Europe/Berlin:20260128T103000
DTSTAMP:20260425T150944
CREATED:20251117T143828Z
LAST-MODIFIED:20260226T130452Z
UID:10000390-1769587200-1769596200@www.gasthof-loebl.de
SUMMARY:Frühstücksbuffet von Dienstag - Sonntag
DESCRIPTION:nur nach telefonischer Voranmeldung!
URL:https://www.gasthof-loebl.de/veranstaltung/fruehstuecksbuffet-taegl-von-dienstag-sonntag/2026-01-28/
LOCATION:Gasthof Löbl\, Eschenau\, August-Wacker-Str. 25\, Eschenau\, Bayern\, 97478
ATTACH;FMTTYPE=image/jpeg:https://www.gasthof-loebl.de/wp-content/uploads/Fruehstuecksbuffet_II-scaled.jpg
END:VEVENT
BEGIN:VEVENT
DTSTART;TZID=Europe/Berlin:20260129T080000
DTEND;TZID=Europe/Berlin:20260129T103000
DTSTAMP:20260425T150944
CREATED:20251117T143828Z
LAST-MODIFIED:20260226T130452Z
UID:10000391-1769673600-1769682600@www.gasthof-loebl.de
SUMMARY:Frühstücksbuffet von Dienstag - Sonntag
DESCRIPTION:nur nach telefonischer Voranmeldung!
URL:https://www.gasthof-loebl.de/veranstaltung/fruehstuecksbuffet-taegl-von-dienstag-sonntag/2026-01-29/
LOCATION:Gasthof Löbl\, Eschenau\, August-Wacker-Str. 25\, Eschenau\, Bayern\, 97478
ATTACH;FMTTYPE=image/jpeg:https://www.gasthof-loebl.de/wp-content/uploads/Fruehstuecksbuffet_II-scaled.jpg
END:VEVENT
BEGIN:VEVENT
DTSTART;TZID=Europe/Berlin:20260129T113000
DTEND;TZID=Europe/Berlin:20260129T150000
DTSTAMP:20260425T150944
CREATED:20251027T141250Z
LAST-MODIFIED:20260326T124641Z
UID:10000076-1769686200-1769698800@www.gasthof-loebl.de
SUMMARY:Kesselfleischessen - jeden Donnerstag
DESCRIPTION:
URL:https://www.gasthof-loebl.de/veranstaltung/kesselfleischessen-jeden-donnerstag/2026-01-29/
LOCATION:Gasthof Löbl\, Eschenau\, August-Wacker-Str. 25\, Eschenau\, Bayern\, 97478
ATTACH;FMTTYPE=image/jpeg:https://www.gasthof-loebl.de/wp-content/uploads/Kesselfleisch_II.jpg
END:VEVENT
BEGIN:VEVENT
DTSTART;TZID=Europe/Berlin:20260130T080000
DTEND;TZID=Europe/Berlin:20260130T103000
DTSTAMP:20260425T150944
CREATED:20251117T143828Z
LAST-MODIFIED:20260226T130452Z
UID:10000392-1769760000-1769769000@www.gasthof-loebl.de
SUMMARY:Frühstücksbuffet von Dienstag - Sonntag
DESCRIPTION:nur nach telefonischer Voranmeldung!
URL:https://www.gasthof-loebl.de/veranstaltung/fruehstuecksbuffet-taegl-von-dienstag-sonntag/2026-01-30/
LOCATION:Gasthof Löbl\, Eschenau\, August-Wacker-Str. 25\, Eschenau\, Bayern\, 97478
ATTACH;FMTTYPE=image/jpeg:https://www.gasthof-loebl.de/wp-content/uploads/Fruehstuecksbuffet_II-scaled.jpg
END:VEVENT
BEGIN:VEVENT
DTSTART;TZID=Europe/Berlin:20260131T080000
DTEND;TZID=Europe/Berlin:20260131T103000
DTSTAMP:20260425T150944
CREATED:20251117T143828Z
LAST-MODIFIED:20260226T130452Z
UID:10000393-1769846400-1769855400@www.gasthof-loebl.de
SUMMARY:Frühstücksbuffet von Dienstag - Sonntag
DESCRIPTION:nur nach telefonischer Voranmeldung!
URL:https://www.gasthof-loebl.de/veranstaltung/fruehstuecksbuffet-taegl-von-dienstag-sonntag/2026-01-31/
LOCATION:Gasthof Löbl\, Eschenau\, August-Wacker-Str. 25\, Eschenau\, Bayern\, 97478
ATTACH;FMTTYPE=image/jpeg:https://www.gasthof-loebl.de/wp-content/uploads/Fruehstuecksbuffet_II-scaled.jpg
END:VEVENT
END:VCALENDAR