BEGIN:VCALENDAR
VERSION:2.0
PRODID:-//zum Böhlgrund | Eschenau | Gasthof Löbl - ECPv6.13.2.1//NONSGML v1.0//EN
CALSCALE:GREGORIAN
METHOD:PUBLISH
X-WR-CALNAME:zum Böhlgrund | Eschenau | Gasthof Löbl
X-ORIGINAL-URL:https://www.gasthof-loebl.de
X-WR-CALDESC:Veranstaltungen für zum Böhlgrund | Eschenau | Gasthof Löbl
REFRESH-INTERVAL;VALUE=DURATION:PT1H
X-Robots-Tag:noindex
X-PUBLISHED-TTL:PT1H
BEGIN:VTIMEZONE
TZID:Europe/Berlin
BEGIN:DAYLIGHT
TZOFFSETFROM:+0100
TZOFFSETTO:+0200
TZNAME:CEST
DTSTART:20250330T010000
END:DAYLIGHT
BEGIN:STANDARD
TZOFFSETFROM:+0200
TZOFFSETTO:+0100
TZNAME:CET
DTSTART:20251026T010000
END:STANDARD
BEGIN:DAYLIGHT
TZOFFSETFROM:+0100
TZOFFSETTO:+0200
TZNAME:CEST
DTSTART:20260329T010000
END:DAYLIGHT
BEGIN:STANDARD
TZOFFSETFROM:+0200
TZOFFSETTO:+0100
TZNAME:CET
DTSTART:20261025T010000
END:STANDARD
END:VTIMEZONE
BEGIN:VEVENT
DTSTART;TZID=Europe/Berlin:20251202T080000
DTEND;TZID=Europe/Berlin:20251202T103000
DTSTAMP:20260425T163311
CREATED:20251117T143828Z
LAST-MODIFIED:20260226T130452Z
UID:10000341-1764662400-1764671400@www.gasthof-loebl.de
SUMMARY:Frühstücksbuffet von Dienstag - Sonntag
DESCRIPTION:nur nach telefonischer Voranmeldung!
URL:https://www.gasthof-loebl.de/veranstaltung/fruehstuecksbuffet-taegl-von-dienstag-sonntag/2025-12-02/
LOCATION:Gasthof Löbl\, Eschenau\, August-Wacker-Str. 25\, Eschenau\, Bayern\, 97478
ATTACH;FMTTYPE=image/jpeg:https://www.gasthof-loebl.de/wp-content/uploads/Fruehstuecksbuffet_II-scaled.jpg
END:VEVENT
BEGIN:VEVENT
DTSTART;TZID=Europe/Berlin:20251203T080000
DTEND;TZID=Europe/Berlin:20251203T103000
DTSTAMP:20260425T163311
CREATED:20251117T143828Z
LAST-MODIFIED:20260226T130452Z
UID:10000342-1764748800-1764757800@www.gasthof-loebl.de
SUMMARY:Frühstücksbuffet von Dienstag - Sonntag
DESCRIPTION:nur nach telefonischer Voranmeldung!
URL:https://www.gasthof-loebl.de/veranstaltung/fruehstuecksbuffet-taegl-von-dienstag-sonntag/2025-12-03/
LOCATION:Gasthof Löbl\, Eschenau\, August-Wacker-Str. 25\, Eschenau\, Bayern\, 97478
ATTACH;FMTTYPE=image/jpeg:https://www.gasthof-loebl.de/wp-content/uploads/Fruehstuecksbuffet_II-scaled.jpg
END:VEVENT
BEGIN:VEVENT
DTSTART;TZID=Europe/Berlin:20251204T080000
DTEND;TZID=Europe/Berlin:20251204T103000
DTSTAMP:20260425T163311
CREATED:20251117T143828Z
LAST-MODIFIED:20260226T130452Z
UID:10000343-1764835200-1764844200@www.gasthof-loebl.de
SUMMARY:Frühstücksbuffet von Dienstag - Sonntag
DESCRIPTION:nur nach telefonischer Voranmeldung!
URL:https://www.gasthof-loebl.de/veranstaltung/fruehstuecksbuffet-taegl-von-dienstag-sonntag/2025-12-04/
LOCATION:Gasthof Löbl\, Eschenau\, August-Wacker-Str. 25\, Eschenau\, Bayern\, 97478
ATTACH;FMTTYPE=image/jpeg:https://www.gasthof-loebl.de/wp-content/uploads/Fruehstuecksbuffet_II-scaled.jpg
END:VEVENT
BEGIN:VEVENT
DTSTART;TZID=Europe/Berlin:20251204T113000
DTEND;TZID=Europe/Berlin:20251204T150000
DTSTAMP:20260425T163311
CREATED:20251027T141250Z
LAST-MODIFIED:20260326T124641Z
UID:10000068-1764847800-1764860400@www.gasthof-loebl.de
SUMMARY:Kesselfleischessen - jeden Donnerstag
DESCRIPTION:
URL:https://www.gasthof-loebl.de/veranstaltung/kesselfleischessen-jeden-donnerstag/2025-12-04/
LOCATION:Gasthof Löbl\, Eschenau\, August-Wacker-Str. 25\, Eschenau\, Bayern\, 97478
ATTACH;FMTTYPE=image/jpeg:https://www.gasthof-loebl.de/wp-content/uploads/Kesselfleisch_II.jpg
END:VEVENT
BEGIN:VEVENT
DTSTART;TZID=Europe/Berlin:20251205T080000
DTEND;TZID=Europe/Berlin:20251205T103000
DTSTAMP:20260425T163311
CREATED:20251117T143828Z
LAST-MODIFIED:20260226T130452Z
UID:10000344-1764921600-1764930600@www.gasthof-loebl.de
SUMMARY:Frühstücksbuffet von Dienstag - Sonntag
DESCRIPTION:nur nach telefonischer Voranmeldung!
URL:https://www.gasthof-loebl.de/veranstaltung/fruehstuecksbuffet-taegl-von-dienstag-sonntag/2025-12-05/
LOCATION:Gasthof Löbl\, Eschenau\, August-Wacker-Str. 25\, Eschenau\, Bayern\, 97478
ATTACH;FMTTYPE=image/jpeg:https://www.gasthof-loebl.de/wp-content/uploads/Fruehstuecksbuffet_II-scaled.jpg
END:VEVENT
BEGIN:VEVENT
DTSTART;TZID=Europe/Berlin:20251206T080000
DTEND;TZID=Europe/Berlin:20251206T103000
DTSTAMP:20260425T163311
CREATED:20251117T143828Z
LAST-MODIFIED:20260226T130452Z
UID:10000345-1765008000-1765017000@www.gasthof-loebl.de
SUMMARY:Frühstücksbuffet von Dienstag - Sonntag
DESCRIPTION:nur nach telefonischer Voranmeldung!
URL:https://www.gasthof-loebl.de/veranstaltung/fruehstuecksbuffet-taegl-von-dienstag-sonntag/2025-12-06/
LOCATION:Gasthof Löbl\, Eschenau\, August-Wacker-Str. 25\, Eschenau\, Bayern\, 97478
ATTACH;FMTTYPE=image/jpeg:https://www.gasthof-loebl.de/wp-content/uploads/Fruehstuecksbuffet_II-scaled.jpg
END:VEVENT
BEGIN:VEVENT
DTSTART;TZID=Europe/Berlin:20251207T080000
DTEND;TZID=Europe/Berlin:20251207T103000
DTSTAMP:20260425T163311
CREATED:20251117T143828Z
LAST-MODIFIED:20260226T130452Z
UID:10000346-1765094400-1765103400@www.gasthof-loebl.de
SUMMARY:Frühstücksbuffet von Dienstag - Sonntag
DESCRIPTION:nur nach telefonischer Voranmeldung!
URL:https://www.gasthof-loebl.de/veranstaltung/fruehstuecksbuffet-taegl-von-dienstag-sonntag/2025-12-07/
LOCATION:Gasthof Löbl\, Eschenau\, August-Wacker-Str. 25\, Eschenau\, Bayern\, 97478
ATTACH;FMTTYPE=image/jpeg:https://www.gasthof-loebl.de/wp-content/uploads/Fruehstuecksbuffet_II-scaled.jpg
END:VEVENT
BEGIN:VEVENT
DTSTART;TZID=Europe/Berlin:20251209T080000
DTEND;TZID=Europe/Berlin:20251209T103000
DTSTAMP:20260425T163311
CREATED:20251117T143828Z
LAST-MODIFIED:20260226T130452Z
UID:10000347-1765267200-1765276200@www.gasthof-loebl.de
SUMMARY:Frühstücksbuffet von Dienstag - Sonntag
DESCRIPTION:nur nach telefonischer Voranmeldung!
URL:https://www.gasthof-loebl.de/veranstaltung/fruehstuecksbuffet-taegl-von-dienstag-sonntag/2025-12-09/
LOCATION:Gasthof Löbl\, Eschenau\, August-Wacker-Str. 25\, Eschenau\, Bayern\, 97478
ATTACH;FMTTYPE=image/jpeg:https://www.gasthof-loebl.de/wp-content/uploads/Fruehstuecksbuffet_II-scaled.jpg
END:VEVENT
BEGIN:VEVENT
DTSTART;TZID=Europe/Berlin:20251209T170000
DTEND;TZID=Europe/Berlin:20251209T220000
DTSTAMP:20260425T163311
CREATED:20251106T140455Z
LAST-MODIFIED:20251106T140745Z
UID:10000327-1765299600-1765317600@www.gasthof-loebl.de
SUMMARY:Wirtshaussingen
DESCRIPTION:Bekannte Lieder laden zum Mitsingen ein! \nMit unserem Musiker Gerhard Ullrich & Team. \nLiederhefte vorhanden.
URL:https://www.gasthof-loebl.de/veranstaltung/september-2025-jeden-dienstag-abend-wirtshaussingen-2/2025-12-09/
LOCATION:Gasthof Löbl\, Eschenau\, August-Wacker-Str. 25\, Eschenau\, Bayern\, 97478
ATTACH;FMTTYPE=image/jpeg:https://www.gasthof-loebl.de/wp-content/uploads/Logo-Neu-gruen.jpg
END:VEVENT
BEGIN:VEVENT
DTSTART;TZID=Europe/Berlin:20251210T080000
DTEND;TZID=Europe/Berlin:20251210T103000
DTSTAMP:20260425T163311
CREATED:20251117T143828Z
LAST-MODIFIED:20260226T130452Z
UID:10000348-1765353600-1765362600@www.gasthof-loebl.de
SUMMARY:Frühstücksbuffet von Dienstag - Sonntag
DESCRIPTION:nur nach telefonischer Voranmeldung!
URL:https://www.gasthof-loebl.de/veranstaltung/fruehstuecksbuffet-taegl-von-dienstag-sonntag/2025-12-10/
LOCATION:Gasthof Löbl\, Eschenau\, August-Wacker-Str. 25\, Eschenau\, Bayern\, 97478
ATTACH;FMTTYPE=image/jpeg:https://www.gasthof-loebl.de/wp-content/uploads/Fruehstuecksbuffet_II-scaled.jpg
END:VEVENT
BEGIN:VEVENT
DTSTART;TZID=Europe/Berlin:20251211T080000
DTEND;TZID=Europe/Berlin:20251211T103000
DTSTAMP:20260425T163311
CREATED:20251117T143828Z
LAST-MODIFIED:20260226T130452Z
UID:10000349-1765440000-1765449000@www.gasthof-loebl.de
SUMMARY:Frühstücksbuffet von Dienstag - Sonntag
DESCRIPTION:nur nach telefonischer Voranmeldung!
URL:https://www.gasthof-loebl.de/veranstaltung/fruehstuecksbuffet-taegl-von-dienstag-sonntag/2025-12-11/
LOCATION:Gasthof Löbl\, Eschenau\, August-Wacker-Str. 25\, Eschenau\, Bayern\, 97478
ATTACH;FMTTYPE=image/jpeg:https://www.gasthof-loebl.de/wp-content/uploads/Fruehstuecksbuffet_II-scaled.jpg
END:VEVENT
BEGIN:VEVENT
DTSTART;TZID=Europe/Berlin:20251211T113000
DTEND;TZID=Europe/Berlin:20251211T150000
DTSTAMP:20260425T163311
CREATED:20251027T141250Z
LAST-MODIFIED:20260326T124641Z
UID:10000069-1765452600-1765465200@www.gasthof-loebl.de
SUMMARY:Kesselfleischessen - jeden Donnerstag
DESCRIPTION:
URL:https://www.gasthof-loebl.de/veranstaltung/kesselfleischessen-jeden-donnerstag/2025-12-11/
LOCATION:Gasthof Löbl\, Eschenau\, August-Wacker-Str. 25\, Eschenau\, Bayern\, 97478
ATTACH;FMTTYPE=image/jpeg:https://www.gasthof-loebl.de/wp-content/uploads/Kesselfleisch_II.jpg
END:VEVENT
BEGIN:VEVENT
DTSTART;TZID=Europe/Berlin:20251212T080000
DTEND;TZID=Europe/Berlin:20251212T103000
DTSTAMP:20260425T163311
CREATED:20251117T143828Z
LAST-MODIFIED:20260226T130452Z
UID:10000350-1765526400-1765535400@www.gasthof-loebl.de
SUMMARY:Frühstücksbuffet von Dienstag - Sonntag
DESCRIPTION:nur nach telefonischer Voranmeldung!
URL:https://www.gasthof-loebl.de/veranstaltung/fruehstuecksbuffet-taegl-von-dienstag-sonntag/2025-12-12/
LOCATION:Gasthof Löbl\, Eschenau\, August-Wacker-Str. 25\, Eschenau\, Bayern\, 97478
ATTACH;FMTTYPE=image/jpeg:https://www.gasthof-loebl.de/wp-content/uploads/Fruehstuecksbuffet_II-scaled.jpg
END:VEVENT
BEGIN:VEVENT
DTSTART;TZID=Europe/Berlin:20251213T080000
DTEND;TZID=Europe/Berlin:20251213T103000
DTSTAMP:20260425T163311
CREATED:20251117T143828Z
LAST-MODIFIED:20260226T130452Z
UID:10000351-1765612800-1765621800@www.gasthof-loebl.de
SUMMARY:Frühstücksbuffet von Dienstag - Sonntag
DESCRIPTION:nur nach telefonischer Voranmeldung!
URL:https://www.gasthof-loebl.de/veranstaltung/fruehstuecksbuffet-taegl-von-dienstag-sonntag/2025-12-13/
LOCATION:Gasthof Löbl\, Eschenau\, August-Wacker-Str. 25\, Eschenau\, Bayern\, 97478
ATTACH;FMTTYPE=image/jpeg:https://www.gasthof-loebl.de/wp-content/uploads/Fruehstuecksbuffet_II-scaled.jpg
END:VEVENT
BEGIN:VEVENT
DTSTART;TZID=Europe/Berlin:20251214T080000
DTEND;TZID=Europe/Berlin:20251214T103000
DTSTAMP:20260425T163311
CREATED:20251117T143828Z
LAST-MODIFIED:20260226T130452Z
UID:10000352-1765699200-1765708200@www.gasthof-loebl.de
SUMMARY:Frühstücksbuffet von Dienstag - Sonntag
DESCRIPTION:nur nach telefonischer Voranmeldung!
URL:https://www.gasthof-loebl.de/veranstaltung/fruehstuecksbuffet-taegl-von-dienstag-sonntag/2025-12-14/
LOCATION:Gasthof Löbl\, Eschenau\, August-Wacker-Str. 25\, Eschenau\, Bayern\, 97478
ATTACH;FMTTYPE=image/jpeg:https://www.gasthof-loebl.de/wp-content/uploads/Fruehstuecksbuffet_II-scaled.jpg
END:VEVENT
BEGIN:VEVENT
DTSTART;TZID=Europe/Berlin:20251216T080000
DTEND;TZID=Europe/Berlin:20251216T103000
DTSTAMP:20260425T163311
CREATED:20251117T143828Z
LAST-MODIFIED:20260226T130452Z
UID:10000353-1765872000-1765881000@www.gasthof-loebl.de
SUMMARY:Frühstücksbuffet von Dienstag - Sonntag
DESCRIPTION:nur nach telefonischer Voranmeldung!
URL:https://www.gasthof-loebl.de/veranstaltung/fruehstuecksbuffet-taegl-von-dienstag-sonntag/2025-12-16/
LOCATION:Gasthof Löbl\, Eschenau\, August-Wacker-Str. 25\, Eschenau\, Bayern\, 97478
ATTACH;FMTTYPE=image/jpeg:https://www.gasthof-loebl.de/wp-content/uploads/Fruehstuecksbuffet_II-scaled.jpg
END:VEVENT
BEGIN:VEVENT
DTSTART;TZID=Europe/Berlin:20251217T080000
DTEND;TZID=Europe/Berlin:20251217T103000
DTSTAMP:20260425T163311
CREATED:20251117T143828Z
LAST-MODIFIED:20260226T130452Z
UID:10000354-1765958400-1765967400@www.gasthof-loebl.de
SUMMARY:Frühstücksbuffet von Dienstag - Sonntag
DESCRIPTION:nur nach telefonischer Voranmeldung!
URL:https://www.gasthof-loebl.de/veranstaltung/fruehstuecksbuffet-taegl-von-dienstag-sonntag/2025-12-17/
LOCATION:Gasthof Löbl\, Eschenau\, August-Wacker-Str. 25\, Eschenau\, Bayern\, 97478
ATTACH;FMTTYPE=image/jpeg:https://www.gasthof-loebl.de/wp-content/uploads/Fruehstuecksbuffet_II-scaled.jpg
END:VEVENT
BEGIN:VEVENT
DTSTART;TZID=Europe/Berlin:20251218T080000
DTEND;TZID=Europe/Berlin:20251218T103000
DTSTAMP:20260425T163311
CREATED:20251117T143828Z
LAST-MODIFIED:20260226T130452Z
UID:10000355-1766044800-1766053800@www.gasthof-loebl.de
SUMMARY:Frühstücksbuffet von Dienstag - Sonntag
DESCRIPTION:nur nach telefonischer Voranmeldung!
URL:https://www.gasthof-loebl.de/veranstaltung/fruehstuecksbuffet-taegl-von-dienstag-sonntag/2025-12-18/
LOCATION:Gasthof Löbl\, Eschenau\, August-Wacker-Str. 25\, Eschenau\, Bayern\, 97478
ATTACH;FMTTYPE=image/jpeg:https://www.gasthof-loebl.de/wp-content/uploads/Fruehstuecksbuffet_II-scaled.jpg
END:VEVENT
BEGIN:VEVENT
DTSTART;TZID=Europe/Berlin:20251218T113000
DTEND;TZID=Europe/Berlin:20251218T150000
DTSTAMP:20260425T163311
CREATED:20251027T141250Z
LAST-MODIFIED:20260326T124641Z
UID:10000070-1766057400-1766070000@www.gasthof-loebl.de
SUMMARY:Kesselfleischessen - jeden Donnerstag
DESCRIPTION:
URL:https://www.gasthof-loebl.de/veranstaltung/kesselfleischessen-jeden-donnerstag/2025-12-18/
LOCATION:Gasthof Löbl\, Eschenau\, August-Wacker-Str. 25\, Eschenau\, Bayern\, 97478
ATTACH;FMTTYPE=image/jpeg:https://www.gasthof-loebl.de/wp-content/uploads/Kesselfleisch_II.jpg
END:VEVENT
BEGIN:VEVENT
DTSTART;TZID=Europe/Berlin:20251219T080000
DTEND;TZID=Europe/Berlin:20251219T103000
DTSTAMP:20260425T163311
CREATED:20251117T143828Z
LAST-MODIFIED:20260226T130452Z
UID:10000356-1766131200-1766140200@www.gasthof-loebl.de
SUMMARY:Frühstücksbuffet von Dienstag - Sonntag
DESCRIPTION:nur nach telefonischer Voranmeldung!
URL:https://www.gasthof-loebl.de/veranstaltung/fruehstuecksbuffet-taegl-von-dienstag-sonntag/2025-12-19/
LOCATION:Gasthof Löbl\, Eschenau\, August-Wacker-Str. 25\, Eschenau\, Bayern\, 97478
ATTACH;FMTTYPE=image/jpeg:https://www.gasthof-loebl.de/wp-content/uploads/Fruehstuecksbuffet_II-scaled.jpg
END:VEVENT
BEGIN:VEVENT
DTSTART;TZID=Europe/Berlin:20251220T080000
DTEND;TZID=Europe/Berlin:20251220T103000
DTSTAMP:20260425T163311
CREATED:20251117T143828Z
LAST-MODIFIED:20260226T130452Z
UID:10000357-1766217600-1766226600@www.gasthof-loebl.de
SUMMARY:Frühstücksbuffet von Dienstag - Sonntag
DESCRIPTION:nur nach telefonischer Voranmeldung!
URL:https://www.gasthof-loebl.de/veranstaltung/fruehstuecksbuffet-taegl-von-dienstag-sonntag/2025-12-20/
LOCATION:Gasthof Löbl\, Eschenau\, August-Wacker-Str. 25\, Eschenau\, Bayern\, 97478
ATTACH;FMTTYPE=image/jpeg:https://www.gasthof-loebl.de/wp-content/uploads/Fruehstuecksbuffet_II-scaled.jpg
END:VEVENT
BEGIN:VEVENT
DTSTART;TZID=Europe/Berlin:20251220T110000
DTEND;TZID=Europe/Berlin:20251220T200000
DTSTAMP:20260425T163311
CREATED:20251211T115831Z
LAST-MODIFIED:20251211T125407Z
UID:10001896-1766228400-1766260800@www.gasthof-loebl.de
SUMMARY:Weihnachtsbaumverkauf mit Glühwein und Lagerfeuer
DESCRIPTION:
URL:https://www.gasthof-loebl.de/veranstaltung/weihnachtsbaumverkauf-mit-gluehwein-und-lagerfeuer/
LOCATION:Gasthof Löbl\, Eschenau\, August-Wacker-Str. 25\, Eschenau\, Bayern\, 97478
ATTACH;FMTTYPE=image/jpeg:https://www.gasthof-loebl.de/wp-content/uploads/Werbung_Baumverkauf_Weihnachten_2025.jpg
END:VEVENT
BEGIN:VEVENT
DTSTART;TZID=Europe/Berlin:20251221T080000
DTEND;TZID=Europe/Berlin:20251221T103000
DTSTAMP:20260425T163311
CREATED:20251117T143828Z
LAST-MODIFIED:20260226T130452Z
UID:10000358-1766304000-1766313000@www.gasthof-loebl.de
SUMMARY:Frühstücksbuffet von Dienstag - Sonntag
DESCRIPTION:nur nach telefonischer Voranmeldung!
URL:https://www.gasthof-loebl.de/veranstaltung/fruehstuecksbuffet-taegl-von-dienstag-sonntag/2025-12-21/
LOCATION:Gasthof Löbl\, Eschenau\, August-Wacker-Str. 25\, Eschenau\, Bayern\, 97478
ATTACH;FMTTYPE=image/jpeg:https://www.gasthof-loebl.de/wp-content/uploads/Fruehstuecksbuffet_II-scaled.jpg
END:VEVENT
BEGIN:VEVENT
DTSTART;TZID=Europe/Berlin:20251223T080000
DTEND;TZID=Europe/Berlin:20251223T103000
DTSTAMP:20260425T163311
CREATED:20251117T143828Z
LAST-MODIFIED:20260226T130452Z
UID:10000359-1766476800-1766485800@www.gasthof-loebl.de
SUMMARY:Frühstücksbuffet von Dienstag - Sonntag
DESCRIPTION:nur nach telefonischer Voranmeldung!
URL:https://www.gasthof-loebl.de/veranstaltung/fruehstuecksbuffet-taegl-von-dienstag-sonntag/2025-12-23/
LOCATION:Gasthof Löbl\, Eschenau\, August-Wacker-Str. 25\, Eschenau\, Bayern\, 97478
ATTACH;FMTTYPE=image/jpeg:https://www.gasthof-loebl.de/wp-content/uploads/Fruehstuecksbuffet_II-scaled.jpg
END:VEVENT
BEGIN:VEVENT
DTSTART;TZID=Europe/Berlin:20251225T113000
DTEND;TZID=Europe/Berlin:20251225T160000
DTSTAMP:20260425T163311
CREATED:20251027T142236Z
LAST-MODIFIED:20251027T142354Z
UID:10000324-1766662200-1766678400@www.gasthof-loebl.de
SUMMARY:Mittagstisch - 1. Weihnachtsfeiertag
DESCRIPTION:Traditioneller Mittagstisch am 1. und 2. Weihnachtsfeiertag. \nSpeisen Sie im Kreis Ihrer Liebsten. \nNur nach tel. Voranmeldung möglich!
URL:https://www.gasthof-loebl.de/veranstaltung/mittagstisch-1-weihnachtsfeiertag/
LOCATION:Gasthof Löbl\, Eschenau\, August-Wacker-Str. 25\, Eschenau\, Bayern\, 97478
END:VEVENT
BEGIN:VEVENT
DTSTART;TZID=Europe/Berlin:20251226T113000
DTEND;TZID=Europe/Berlin:20251226T160000
DTSTAMP:20260425T163311
CREATED:20251027T142456Z
LAST-MODIFIED:20251027T142456Z
UID:10000325-1766748600-1766764800@www.gasthof-loebl.de
SUMMARY:Mittagstisch- 2. Weihnachtsfeiertag
DESCRIPTION:Traditioneller Mittagstisch am 1. und 2. Weihnachtsfeiertag. \nSpeisen Sie im Kreis Ihrer Liebsten. \nNur nach tel. Voranmeldung möglich!
URL:https://www.gasthof-loebl.de/veranstaltung/mittagstisch-2-weihnachtsfeiertag/
LOCATION:Gasthof Löbl\, Eschenau\, August-Wacker-Str. 25\, Eschenau\, Bayern\, 97478
END:VEVENT
BEGIN:VEVENT
DTSTART;VALUE=DATE:20251231
DTEND;VALUE=DATE:20260105
DTSTAMP:20260425T163311
CREATED:20251118T121354Z
LAST-MODIFIED:20251118T121604Z
UID:10001895-1767139200-1767571199@www.gasthof-loebl.de
SUMMARY:Silvesterarrangement: Übernachtungansangebot vom 31.12. 2025 - einschl. 04.01.2026
DESCRIPTION:Verbringen Sie den Jahreswechsel in gemütlicher Atmosphäre.\nEs erwarten Sie ein reichhaltiges Frühstücksbuffet\, Relaxen und Erholen in naturnaher Umgebung.\nZeit zum Lesen\, Wandern\, Zeit für ausgedehnte Spaziergänge.\nStärken Sie sich am Abend á la carte.\n\nPreis im DZ/ 4 Übernachtungen: 319 €.\nPreis im EZ / 4 Übernachtungen: 199 €.\n  \n 
URL:https://www.gasthof-loebl.de/veranstaltung/silvesterarrangement-uebernachtungansangebot-vom-31-12-2025-einschl-04-01-2026/
LOCATION:Gasthof Löbl\, Eschenau\, August-Wacker-Str. 25\, Eschenau\, Bayern\, 97478
END:VEVENT
BEGIN:VEVENT
DTSTART;TZID=Europe/Berlin:20251231T170000
DTEND;TZID=Europe/Berlin:20251231T230000
DTSTAMP:20260425T163311
CREATED:20251117T141802Z
LAST-MODIFIED:20251117T141802Z
UID:10000328-1767200400-1767222000@www.gasthof-loebl.de
SUMMARY:Silvester: Sektempfang & Abendessen á la carte
DESCRIPTION:
URL:https://www.gasthof-loebl.de/veranstaltung/silvester-sektempfang-abendessen-a-la-carte/
LOCATION:Gasthof Löbl\, Eschenau\, August-Wacker-Str. 25\, Eschenau\, Bayern\, 97478
ATTACH;FMTTYPE=image/jpeg:https://www.gasthof-loebl.de/wp-content/uploads/Sektempfang_Silvester.jpg
END:VEVENT
END:VCALENDAR