BEGIN:VCALENDAR
VERSION:2.0
PRODID:-//zum Böhlgrund | Eschenau | Gasthof Löbl - ECPv6.13.2.1//NONSGML v1.0//EN
CALSCALE:GREGORIAN
METHOD:PUBLISH
X-WR-CALNAME:zum Böhlgrund | Eschenau | Gasthof Löbl
X-ORIGINAL-URL:https://www.gasthof-loebl.de
X-WR-CALDESC:Veranstaltungen für zum Böhlgrund | Eschenau | Gasthof Löbl
REFRESH-INTERVAL;VALUE=DURATION:PT1H
X-Robots-Tag:noindex
X-PUBLISHED-TTL:PT1H
BEGIN:VTIMEZONE
TZID:Europe/Berlin
BEGIN:DAYLIGHT
TZOFFSETFROM:+0100
TZOFFSETTO:+0200
TZNAME:CEST
DTSTART:20250330T010000
END:DAYLIGHT
BEGIN:STANDARD
TZOFFSETFROM:+0200
TZOFFSETTO:+0100
TZNAME:CET
DTSTART:20251026T010000
END:STANDARD
END:VTIMEZONE
BEGIN:VEVENT
DTSTART;TZID=Europe/Berlin:20251004T140000
DTEND;TZID=Europe/Berlin:20251004T160000
DTSTAMP:20260425T191111
CREATED:20250711T144654Z
LAST-MODIFIED:20250711T150349Z
UID:10000022-1759586400-1759593600@www.gasthof-loebl.de
SUMMARY:Öffentliche Stadtführung "Historisches Haßfurt"
DESCRIPTION:Stadtrundgang Haßfurt
URL:https://www.gasthof-loebl.de/veranstaltung/oeffentliche-stadtfuehrung-historisches-hassfurt/2025-10-04/
LOCATION:Stadt Haßfurt\, Stadt Haßfurt\, Haßfurt\, Bayern\, 97437
END:VEVENT
BEGIN:VEVENT
DTSTART;TZID=Europe/Berlin:20251030T113000
DTEND;TZID=Europe/Berlin:20251030T150000
DTSTAMP:20260425T191111
CREATED:20251027T141250Z
LAST-MODIFIED:20260326T124641Z
UID:10000063-1761823800-1761836400@www.gasthof-loebl.de
SUMMARY:Kesselfleischessen - jeden Donnerstag
DESCRIPTION:
URL:https://www.gasthof-loebl.de/veranstaltung/kesselfleischessen-jeden-donnerstag/2025-10-30/
LOCATION:Gasthof Löbl\, Eschenau\, August-Wacker-Str. 25\, Eschenau\, Bayern\, 97478
ATTACH;FMTTYPE=image/jpeg:https://www.gasthof-loebl.de/wp-content/uploads/Kesselfleisch_II.jpg
END:VEVENT
END:VCALENDAR