BEGIN:VCALENDAR
VERSION:2.0
PRODID:-//zum Böhlgrund | Eschenau | Gasthof Löbl - ECPv6.13.2.1//NONSGML v1.0//EN
CALSCALE:GREGORIAN
METHOD:PUBLISH
X-ORIGINAL-URL:https://www.gasthof-loebl.de
X-WR-CALDESC:Veranstaltungen für zum Böhlgrund | Eschenau | Gasthof Löbl
REFRESH-INTERVAL;VALUE=DURATION:PT1H
X-Robots-Tag:noindex
X-PUBLISHED-TTL:PT1H
BEGIN:VTIMEZONE
TZID:Europe/Berlin
BEGIN:DAYLIGHT
TZOFFSETFROM:+0100
TZOFFSETTO:+0200
TZNAME:CEST
DTSTART:20250330T010000
END:DAYLIGHT
BEGIN:STANDARD
TZOFFSETFROM:+0200
TZOFFSETTO:+0100
TZNAME:CET
DTSTART:20251026T010000
END:STANDARD
END:VTIMEZONE
BEGIN:VEVENT
DTSTART;TZID=Europe/Berlin:20250902T170000
DTEND;TZID=Europe/Berlin:20250902T220000
DTSTAMP:20260425T204500
CREATED:20250822T134338Z
LAST-MODIFIED:20251106T135742Z
UID:10000056-1756832400-1756850400@www.gasthof-loebl.de
SUMMARY:11. November 2025: Wirtshaussingen
DESCRIPTION:Bekannte Lieder laden zum Mitsingen ein! \nMit unserem Musiker Gerhard Ullrich & Team. \nLiederhefte vorhanden.
URL:https://www.gasthof-loebl.de/veranstaltung/september-2025-jeden-dienstag-abend-wirtshaussingen/2025-09-02/
LOCATION:Gasthof Löbl\, Eschenau\, August-Wacker-Str. 25\, Eschenau\, Bayern\, 97478
ATTACH;FMTTYPE=image/jpeg:https://www.gasthof-loebl.de/wp-content/uploads/Logo-Neu-gruen.jpg
END:VEVENT
BEGIN:VEVENT
DTSTART;TZID=Europe/Berlin:20250906T140000
DTEND;TZID=Europe/Berlin:20250906T160000
DTSTAMP:20260425T204500
CREATED:20250711T144654Z
LAST-MODIFIED:20250711T150349Z
UID:10000021-1757167200-1757174400@www.gasthof-loebl.de
SUMMARY:Öffentliche Stadtführung "Historisches Haßfurt"
DESCRIPTION:Stadtrundgang Haßfurt
URL:https://www.gasthof-loebl.de/veranstaltung/oeffentliche-stadtfuehrung-historisches-hassfurt/2025-09-06/
LOCATION:Stadt Haßfurt\, Stadt Haßfurt\, Haßfurt\, Bayern\, 97437
END:VEVENT
BEGIN:VEVENT
DTSTART;TZID=Europe/Berlin:20250909T170000
DTEND;TZID=Europe/Berlin:20250909T220000
DTSTAMP:20260425T204500
CREATED:20250822T134338Z
LAST-MODIFIED:20251106T135742Z
UID:10000057-1757437200-1757455200@www.gasthof-loebl.de
SUMMARY:11. November 2025: Wirtshaussingen
DESCRIPTION:Bekannte Lieder laden zum Mitsingen ein! \nMit unserem Musiker Gerhard Ullrich & Team. \nLiederhefte vorhanden.
URL:https://www.gasthof-loebl.de/veranstaltung/september-2025-jeden-dienstag-abend-wirtshaussingen/2025-09-09/
LOCATION:Gasthof Löbl\, Eschenau\, August-Wacker-Str. 25\, Eschenau\, Bayern\, 97478
ATTACH;FMTTYPE=image/jpeg:https://www.gasthof-loebl.de/wp-content/uploads/Logo-Neu-gruen.jpg
END:VEVENT
BEGIN:VEVENT
DTSTART;TZID=Europe/Berlin:20250916T170000
DTEND;TZID=Europe/Berlin:20250916T220000
DTSTAMP:20260425T204500
CREATED:20250822T134338Z
LAST-MODIFIED:20251106T135742Z
UID:10000058-1758042000-1758060000@www.gasthof-loebl.de
SUMMARY:11. November 2025: Wirtshaussingen
DESCRIPTION:Bekannte Lieder laden zum Mitsingen ein! \nMit unserem Musiker Gerhard Ullrich & Team. \nLiederhefte vorhanden.
URL:https://www.gasthof-loebl.de/veranstaltung/september-2025-jeden-dienstag-abend-wirtshaussingen/2025-09-16/
LOCATION:Gasthof Löbl\, Eschenau\, August-Wacker-Str. 25\, Eschenau\, Bayern\, 97478
ATTACH;FMTTYPE=image/jpeg:https://www.gasthof-loebl.de/wp-content/uploads/Logo-Neu-gruen.jpg
END:VEVENT
BEGIN:VEVENT
DTSTART;TZID=Europe/Berlin:20250924T090000
DTEND;TZID=Europe/Berlin:20250924T120000
DTSTAMP:20260425T204500
CREATED:20250711T135550Z
LAST-MODIFIED:20250728T140111Z
UID:10000016-1758704400-1758715200@www.gasthof-loebl.de
SUMMARY:Kräuterfrühstück
DESCRIPTION:Lavendel & Dill
URL:https://www.gasthof-loebl.de/veranstaltung/kraeuterfruehstueck/
LOCATION:Gasthaus & Pension “Zum Böhlgrund”\, August-Wacker-Str. 25\, Eschenau\, 97478
ATTACH;FMTTYPE=image/jpeg:https://www.gasthof-loebl.de/wp-content/uploads/Kraeuterfruehstueck_VI-scaled.jpg
END:VEVENT
END:VCALENDAR