BEGIN:VCALENDAR
VERSION:2.0
PRODID:-//zum Böhlgrund | Eschenau | Gasthof Löbl - ECPv6.13.2.1//NONSGML v1.0//EN
CALSCALE:GREGORIAN
METHOD:PUBLISH
X-WR-CALNAME:zum Böhlgrund | Eschenau | Gasthof Löbl
X-ORIGINAL-URL:https://www.gasthof-loebl.de
X-WR-CALDESC:Veranstaltungen für zum Böhlgrund | Eschenau | Gasthof Löbl
REFRESH-INTERVAL;VALUE=DURATION:PT1H
X-Robots-Tag:noindex
X-PUBLISHED-TTL:PT1H
BEGIN:VTIMEZONE
TZID:Europe/Berlin
BEGIN:DAYLIGHT
TZOFFSETFROM:+0100
TZOFFSETTO:+0200
TZNAME:CEST
DTSTART:20260329T010000
END:DAYLIGHT
BEGIN:STANDARD
TZOFFSETFROM:+0200
TZOFFSETTO:+0100
TZNAME:CET
DTSTART:20261025T010000
END:STANDARD
END:VTIMEZONE
BEGIN:VEVENT
DTSTART;TZID=Europe/Berlin:20261105T080000
DTEND;TZID=Europe/Berlin:20261105T103000
DTSTAMP:20260425T134037
CREATED:20251117T143828Z
LAST-MODIFIED:20260226T130452Z
UID:10000631-1793865600-1793874600@www.gasthof-loebl.de
SUMMARY:Frühstücksbuffet von Dienstag - Sonntag
DESCRIPTION:nur nach telefonischer Voranmeldung!
URL:https://www.gasthof-loebl.de/veranstaltung/fruehstuecksbuffet-taegl-von-dienstag-sonntag/2026-11-05/
LOCATION:Gasthof Löbl\, Eschenau\, August-Wacker-Str. 25\, Eschenau\, Bayern\, 97478
ATTACH;FMTTYPE=image/jpeg:https://www.gasthof-loebl.de/wp-content/uploads/Fruehstuecksbuffet_II-scaled.jpg
END:VEVENT
BEGIN:VEVENT
DTSTART;TZID=Europe/Berlin:20261105T113000
DTEND;TZID=Europe/Berlin:20261105T150000
DTSTAMP:20260425T134037
CREATED:20251027T141250Z
LAST-MODIFIED:20260326T124641Z
UID:10000116-1793878200-1793890800@www.gasthof-loebl.de
SUMMARY:Kesselfleischessen - jeden Donnerstag
DESCRIPTION:
URL:https://www.gasthof-loebl.de/veranstaltung/kesselfleischessen-jeden-donnerstag/2026-11-05/
LOCATION:Gasthof Löbl\, Eschenau\, August-Wacker-Str. 25\, Eschenau\, Bayern\, 97478
ATTACH;FMTTYPE=image/jpeg:https://www.gasthof-loebl.de/wp-content/uploads/Kesselfleisch_II.jpg
END:VEVENT
BEGIN:VEVENT
DTSTART;TZID=Europe/Berlin:20261106T080000
DTEND;TZID=Europe/Berlin:20261106T103000
DTSTAMP:20260425T134037
CREATED:20251117T143828Z
LAST-MODIFIED:20260226T130452Z
UID:10000632-1793952000-1793961000@www.gasthof-loebl.de
SUMMARY:Frühstücksbuffet von Dienstag - Sonntag
DESCRIPTION:nur nach telefonischer Voranmeldung!
URL:https://www.gasthof-loebl.de/veranstaltung/fruehstuecksbuffet-taegl-von-dienstag-sonntag/2026-11-06/
LOCATION:Gasthof Löbl\, Eschenau\, August-Wacker-Str. 25\, Eschenau\, Bayern\, 97478
ATTACH;FMTTYPE=image/jpeg:https://www.gasthof-loebl.de/wp-content/uploads/Fruehstuecksbuffet_II-scaled.jpg
END:VEVENT
BEGIN:VEVENT
DTSTART;TZID=Europe/Berlin:20261107T080000
DTEND;TZID=Europe/Berlin:20261107T103000
DTSTAMP:20260425T134037
CREATED:20251117T143828Z
LAST-MODIFIED:20260226T130452Z
UID:10000633-1794038400-1794047400@www.gasthof-loebl.de
SUMMARY:Frühstücksbuffet von Dienstag - Sonntag
DESCRIPTION:nur nach telefonischer Voranmeldung!
URL:https://www.gasthof-loebl.de/veranstaltung/fruehstuecksbuffet-taegl-von-dienstag-sonntag/2026-11-07/
LOCATION:Gasthof Löbl\, Eschenau\, August-Wacker-Str. 25\, Eschenau\, Bayern\, 97478
ATTACH;FMTTYPE=image/jpeg:https://www.gasthof-loebl.de/wp-content/uploads/Fruehstuecksbuffet_II-scaled.jpg
END:VEVENT
BEGIN:VEVENT
DTSTART;TZID=Europe/Berlin:20261108T080000
DTEND;TZID=Europe/Berlin:20261108T103000
DTSTAMP:20260425T134037
CREATED:20251117T143828Z
LAST-MODIFIED:20260226T130452Z
UID:10000634-1794124800-1794133800@www.gasthof-loebl.de
SUMMARY:Frühstücksbuffet von Dienstag - Sonntag
DESCRIPTION:nur nach telefonischer Voranmeldung!
URL:https://www.gasthof-loebl.de/veranstaltung/fruehstuecksbuffet-taegl-von-dienstag-sonntag/2026-11-08/
LOCATION:Gasthof Löbl\, Eschenau\, August-Wacker-Str. 25\, Eschenau\, Bayern\, 97478
ATTACH;FMTTYPE=image/jpeg:https://www.gasthof-loebl.de/wp-content/uploads/Fruehstuecksbuffet_II-scaled.jpg
END:VEVENT
BEGIN:VEVENT
DTSTART;TZID=Europe/Berlin:20261110T080000
DTEND;TZID=Europe/Berlin:20261110T103000
DTSTAMP:20260425T134037
CREATED:20251117T143828Z
LAST-MODIFIED:20260226T130452Z
UID:10000635-1794297600-1794306600@www.gasthof-loebl.de
SUMMARY:Frühstücksbuffet von Dienstag - Sonntag
DESCRIPTION:nur nach telefonischer Voranmeldung!
URL:https://www.gasthof-loebl.de/veranstaltung/fruehstuecksbuffet-taegl-von-dienstag-sonntag/2026-11-10/
LOCATION:Gasthof Löbl\, Eschenau\, August-Wacker-Str. 25\, Eschenau\, Bayern\, 97478
ATTACH;FMTTYPE=image/jpeg:https://www.gasthof-loebl.de/wp-content/uploads/Fruehstuecksbuffet_II-scaled.jpg
END:VEVENT
BEGIN:VEVENT
DTSTART;TZID=Europe/Berlin:20261111T080000
DTEND;TZID=Europe/Berlin:20261111T103000
DTSTAMP:20260425T134037
CREATED:20251117T143828Z
LAST-MODIFIED:20260226T130452Z
UID:10000636-1794384000-1794393000@www.gasthof-loebl.de
SUMMARY:Frühstücksbuffet von Dienstag - Sonntag
DESCRIPTION:nur nach telefonischer Voranmeldung!
URL:https://www.gasthof-loebl.de/veranstaltung/fruehstuecksbuffet-taegl-von-dienstag-sonntag/2026-11-11/
LOCATION:Gasthof Löbl\, Eschenau\, August-Wacker-Str. 25\, Eschenau\, Bayern\, 97478
ATTACH;FMTTYPE=image/jpeg:https://www.gasthof-loebl.de/wp-content/uploads/Fruehstuecksbuffet_II-scaled.jpg
END:VEVENT
BEGIN:VEVENT
DTSTART;TZID=Europe/Berlin:20261112T080000
DTEND;TZID=Europe/Berlin:20261112T103000
DTSTAMP:20260425T134037
CREATED:20251117T143828Z
LAST-MODIFIED:20260226T130452Z
UID:10000637-1794470400-1794479400@www.gasthof-loebl.de
SUMMARY:Frühstücksbuffet von Dienstag - Sonntag
DESCRIPTION:nur nach telefonischer Voranmeldung!
URL:https://www.gasthof-loebl.de/veranstaltung/fruehstuecksbuffet-taegl-von-dienstag-sonntag/2026-11-12/
LOCATION:Gasthof Löbl\, Eschenau\, August-Wacker-Str. 25\, Eschenau\, Bayern\, 97478
ATTACH;FMTTYPE=image/jpeg:https://www.gasthof-loebl.de/wp-content/uploads/Fruehstuecksbuffet_II-scaled.jpg
END:VEVENT
BEGIN:VEVENT
DTSTART;TZID=Europe/Berlin:20261112T113000
DTEND;TZID=Europe/Berlin:20261112T150000
DTSTAMP:20260425T134037
CREATED:20251027T141250Z
LAST-MODIFIED:20260326T124641Z
UID:10000117-1794483000-1794495600@www.gasthof-loebl.de
SUMMARY:Kesselfleischessen - jeden Donnerstag
DESCRIPTION:
URL:https://www.gasthof-loebl.de/veranstaltung/kesselfleischessen-jeden-donnerstag/2026-11-12/
LOCATION:Gasthof Löbl\, Eschenau\, August-Wacker-Str. 25\, Eschenau\, Bayern\, 97478
ATTACH;FMTTYPE=image/jpeg:https://www.gasthof-loebl.de/wp-content/uploads/Kesselfleisch_II.jpg
END:VEVENT
BEGIN:VEVENT
DTSTART;TZID=Europe/Berlin:20261113T080000
DTEND;TZID=Europe/Berlin:20261113T103000
DTSTAMP:20260425T134037
CREATED:20251117T143828Z
LAST-MODIFIED:20260226T130452Z
UID:10000638-1794556800-1794565800@www.gasthof-loebl.de
SUMMARY:Frühstücksbuffet von Dienstag - Sonntag
DESCRIPTION:nur nach telefonischer Voranmeldung!
URL:https://www.gasthof-loebl.de/veranstaltung/fruehstuecksbuffet-taegl-von-dienstag-sonntag/2026-11-13/
LOCATION:Gasthof Löbl\, Eschenau\, August-Wacker-Str. 25\, Eschenau\, Bayern\, 97478
ATTACH;FMTTYPE=image/jpeg:https://www.gasthof-loebl.de/wp-content/uploads/Fruehstuecksbuffet_II-scaled.jpg
END:VEVENT
BEGIN:VEVENT
DTSTART;TZID=Europe/Berlin:20261114T080000
DTEND;TZID=Europe/Berlin:20261114T103000
DTSTAMP:20260425T134037
CREATED:20251117T143828Z
LAST-MODIFIED:20260226T130452Z
UID:10000639-1794643200-1794652200@www.gasthof-loebl.de
SUMMARY:Frühstücksbuffet von Dienstag - Sonntag
DESCRIPTION:nur nach telefonischer Voranmeldung!
URL:https://www.gasthof-loebl.de/veranstaltung/fruehstuecksbuffet-taegl-von-dienstag-sonntag/2026-11-14/
LOCATION:Gasthof Löbl\, Eschenau\, August-Wacker-Str. 25\, Eschenau\, Bayern\, 97478
ATTACH;FMTTYPE=image/jpeg:https://www.gasthof-loebl.de/wp-content/uploads/Fruehstuecksbuffet_II-scaled.jpg
END:VEVENT
BEGIN:VEVENT
DTSTART;TZID=Europe/Berlin:20261115T080000
DTEND;TZID=Europe/Berlin:20261115T103000
DTSTAMP:20260425T134037
CREATED:20251117T143828Z
LAST-MODIFIED:20260226T130452Z
UID:10000640-1794729600-1794738600@www.gasthof-loebl.de
SUMMARY:Frühstücksbuffet von Dienstag - Sonntag
DESCRIPTION:nur nach telefonischer Voranmeldung!
URL:https://www.gasthof-loebl.de/veranstaltung/fruehstuecksbuffet-taegl-von-dienstag-sonntag/2026-11-15/
LOCATION:Gasthof Löbl\, Eschenau\, August-Wacker-Str. 25\, Eschenau\, Bayern\, 97478
ATTACH;FMTTYPE=image/jpeg:https://www.gasthof-loebl.de/wp-content/uploads/Fruehstuecksbuffet_II-scaled.jpg
END:VEVENT
BEGIN:VEVENT
DTSTART;TZID=Europe/Berlin:20261117T080000
DTEND;TZID=Europe/Berlin:20261117T103000
DTSTAMP:20260425T134037
CREATED:20251117T143828Z
LAST-MODIFIED:20260226T130452Z
UID:10000641-1794902400-1794911400@www.gasthof-loebl.de
SUMMARY:Frühstücksbuffet von Dienstag - Sonntag
DESCRIPTION:nur nach telefonischer Voranmeldung!
URL:https://www.gasthof-loebl.de/veranstaltung/fruehstuecksbuffet-taegl-von-dienstag-sonntag/2026-11-17/
LOCATION:Gasthof Löbl\, Eschenau\, August-Wacker-Str. 25\, Eschenau\, Bayern\, 97478
ATTACH;FMTTYPE=image/jpeg:https://www.gasthof-loebl.de/wp-content/uploads/Fruehstuecksbuffet_II-scaled.jpg
END:VEVENT
BEGIN:VEVENT
DTSTART;TZID=Europe/Berlin:20261118T080000
DTEND;TZID=Europe/Berlin:20261118T103000
DTSTAMP:20260425T134037
CREATED:20251117T143828Z
LAST-MODIFIED:20260226T130452Z
UID:10000642-1794988800-1794997800@www.gasthof-loebl.de
SUMMARY:Frühstücksbuffet von Dienstag - Sonntag
DESCRIPTION:nur nach telefonischer Voranmeldung!
URL:https://www.gasthof-loebl.de/veranstaltung/fruehstuecksbuffet-taegl-von-dienstag-sonntag/2026-11-18/
LOCATION:Gasthof Löbl\, Eschenau\, August-Wacker-Str. 25\, Eschenau\, Bayern\, 97478
ATTACH;FMTTYPE=image/jpeg:https://www.gasthof-loebl.de/wp-content/uploads/Fruehstuecksbuffet_II-scaled.jpg
END:VEVENT
BEGIN:VEVENT
DTSTART;TZID=Europe/Berlin:20261119T080000
DTEND;TZID=Europe/Berlin:20261119T103000
DTSTAMP:20260425T134037
CREATED:20251117T143828Z
LAST-MODIFIED:20260226T130452Z
UID:10000643-1795075200-1795084200@www.gasthof-loebl.de
SUMMARY:Frühstücksbuffet von Dienstag - Sonntag
DESCRIPTION:nur nach telefonischer Voranmeldung!
URL:https://www.gasthof-loebl.de/veranstaltung/fruehstuecksbuffet-taegl-von-dienstag-sonntag/2026-11-19/
LOCATION:Gasthof Löbl\, Eschenau\, August-Wacker-Str. 25\, Eschenau\, Bayern\, 97478
ATTACH;FMTTYPE=image/jpeg:https://www.gasthof-loebl.de/wp-content/uploads/Fruehstuecksbuffet_II-scaled.jpg
END:VEVENT
BEGIN:VEVENT
DTSTART;TZID=Europe/Berlin:20261119T113000
DTEND;TZID=Europe/Berlin:20261119T150000
DTSTAMP:20260425T134037
CREATED:20251027T141250Z
LAST-MODIFIED:20260326T124641Z
UID:10000118-1795087800-1795100400@www.gasthof-loebl.de
SUMMARY:Kesselfleischessen - jeden Donnerstag
DESCRIPTION:
URL:https://www.gasthof-loebl.de/veranstaltung/kesselfleischessen-jeden-donnerstag/2026-11-19/
LOCATION:Gasthof Löbl\, Eschenau\, August-Wacker-Str. 25\, Eschenau\, Bayern\, 97478
ATTACH;FMTTYPE=image/jpeg:https://www.gasthof-loebl.de/wp-content/uploads/Kesselfleisch_II.jpg
END:VEVENT
BEGIN:VEVENT
DTSTART;TZID=Europe/Berlin:20261120T080000
DTEND;TZID=Europe/Berlin:20261120T103000
DTSTAMP:20260425T134037
CREATED:20251117T143828Z
LAST-MODIFIED:20260226T130452Z
UID:10000644-1795161600-1795170600@www.gasthof-loebl.de
SUMMARY:Frühstücksbuffet von Dienstag - Sonntag
DESCRIPTION:nur nach telefonischer Voranmeldung!
URL:https://www.gasthof-loebl.de/veranstaltung/fruehstuecksbuffet-taegl-von-dienstag-sonntag/2026-11-20/
LOCATION:Gasthof Löbl\, Eschenau\, August-Wacker-Str. 25\, Eschenau\, Bayern\, 97478
ATTACH;FMTTYPE=image/jpeg:https://www.gasthof-loebl.de/wp-content/uploads/Fruehstuecksbuffet_II-scaled.jpg
END:VEVENT
BEGIN:VEVENT
DTSTART;TZID=Europe/Berlin:20261121T080000
DTEND;TZID=Europe/Berlin:20261121T103000
DTSTAMP:20260425T134037
CREATED:20251117T143828Z
LAST-MODIFIED:20260226T130452Z
UID:10000645-1795248000-1795257000@www.gasthof-loebl.de
SUMMARY:Frühstücksbuffet von Dienstag - Sonntag
DESCRIPTION:nur nach telefonischer Voranmeldung!
URL:https://www.gasthof-loebl.de/veranstaltung/fruehstuecksbuffet-taegl-von-dienstag-sonntag/2026-11-21/
LOCATION:Gasthof Löbl\, Eschenau\, August-Wacker-Str. 25\, Eschenau\, Bayern\, 97478
ATTACH;FMTTYPE=image/jpeg:https://www.gasthof-loebl.de/wp-content/uploads/Fruehstuecksbuffet_II-scaled.jpg
END:VEVENT
BEGIN:VEVENT
DTSTART;TZID=Europe/Berlin:20261122T080000
DTEND;TZID=Europe/Berlin:20261122T103000
DTSTAMP:20260425T134037
CREATED:20251117T143828Z
LAST-MODIFIED:20260226T130452Z
UID:10000646-1795334400-1795343400@www.gasthof-loebl.de
SUMMARY:Frühstücksbuffet von Dienstag - Sonntag
DESCRIPTION:nur nach telefonischer Voranmeldung!
URL:https://www.gasthof-loebl.de/veranstaltung/fruehstuecksbuffet-taegl-von-dienstag-sonntag/2026-11-22/
LOCATION:Gasthof Löbl\, Eschenau\, August-Wacker-Str. 25\, Eschenau\, Bayern\, 97478
ATTACH;FMTTYPE=image/jpeg:https://www.gasthof-loebl.de/wp-content/uploads/Fruehstuecksbuffet_II-scaled.jpg
END:VEVENT
BEGIN:VEVENT
DTSTART;TZID=Europe/Berlin:20261124T080000
DTEND;TZID=Europe/Berlin:20261124T103000
DTSTAMP:20260425T134037
CREATED:20251117T143828Z
LAST-MODIFIED:20260226T130452Z
UID:10000647-1795507200-1795516200@www.gasthof-loebl.de
SUMMARY:Frühstücksbuffet von Dienstag - Sonntag
DESCRIPTION:nur nach telefonischer Voranmeldung!
URL:https://www.gasthof-loebl.de/veranstaltung/fruehstuecksbuffet-taegl-von-dienstag-sonntag/2026-11-24/
LOCATION:Gasthof Löbl\, Eschenau\, August-Wacker-Str. 25\, Eschenau\, Bayern\, 97478
ATTACH;FMTTYPE=image/jpeg:https://www.gasthof-loebl.de/wp-content/uploads/Fruehstuecksbuffet_II-scaled.jpg
END:VEVENT
BEGIN:VEVENT
DTSTART;TZID=Europe/Berlin:20261125T080000
DTEND;TZID=Europe/Berlin:20261125T103000
DTSTAMP:20260425T134037
CREATED:20251117T143828Z
LAST-MODIFIED:20260226T130452Z
UID:10000648-1795593600-1795602600@www.gasthof-loebl.de
SUMMARY:Frühstücksbuffet von Dienstag - Sonntag
DESCRIPTION:nur nach telefonischer Voranmeldung!
URL:https://www.gasthof-loebl.de/veranstaltung/fruehstuecksbuffet-taegl-von-dienstag-sonntag/2026-11-25/
LOCATION:Gasthof Löbl\, Eschenau\, August-Wacker-Str. 25\, Eschenau\, Bayern\, 97478
ATTACH;FMTTYPE=image/jpeg:https://www.gasthof-loebl.de/wp-content/uploads/Fruehstuecksbuffet_II-scaled.jpg
END:VEVENT
BEGIN:VEVENT
DTSTART;TZID=Europe/Berlin:20261126T080000
DTEND;TZID=Europe/Berlin:20261126T103000
DTSTAMP:20260425T134037
CREATED:20251117T143828Z
LAST-MODIFIED:20260226T130452Z
UID:10000649-1795680000-1795689000@www.gasthof-loebl.de
SUMMARY:Frühstücksbuffet von Dienstag - Sonntag
DESCRIPTION:nur nach telefonischer Voranmeldung!
URL:https://www.gasthof-loebl.de/veranstaltung/fruehstuecksbuffet-taegl-von-dienstag-sonntag/2026-11-26/
LOCATION:Gasthof Löbl\, Eschenau\, August-Wacker-Str. 25\, Eschenau\, Bayern\, 97478
ATTACH;FMTTYPE=image/jpeg:https://www.gasthof-loebl.de/wp-content/uploads/Fruehstuecksbuffet_II-scaled.jpg
END:VEVENT
BEGIN:VEVENT
DTSTART;TZID=Europe/Berlin:20261126T113000
DTEND;TZID=Europe/Berlin:20261126T150000
DTSTAMP:20260425T134037
CREATED:20251027T141250Z
LAST-MODIFIED:20260326T124641Z
UID:10000119-1795692600-1795705200@www.gasthof-loebl.de
SUMMARY:Kesselfleischessen - jeden Donnerstag
DESCRIPTION:
URL:https://www.gasthof-loebl.de/veranstaltung/kesselfleischessen-jeden-donnerstag/2026-11-26/
LOCATION:Gasthof Löbl\, Eschenau\, August-Wacker-Str. 25\, Eschenau\, Bayern\, 97478
ATTACH;FMTTYPE=image/jpeg:https://www.gasthof-loebl.de/wp-content/uploads/Kesselfleisch_II.jpg
END:VEVENT
BEGIN:VEVENT
DTSTART;TZID=Europe/Berlin:20261127T080000
DTEND;TZID=Europe/Berlin:20261127T103000
DTSTAMP:20260425T134037
CREATED:20251117T143828Z
LAST-MODIFIED:20260226T130452Z
UID:10000650-1795766400-1795775400@www.gasthof-loebl.de
SUMMARY:Frühstücksbuffet von Dienstag - Sonntag
DESCRIPTION:nur nach telefonischer Voranmeldung!
URL:https://www.gasthof-loebl.de/veranstaltung/fruehstuecksbuffet-taegl-von-dienstag-sonntag/2026-11-27/
LOCATION:Gasthof Löbl\, Eschenau\, August-Wacker-Str. 25\, Eschenau\, Bayern\, 97478
ATTACH;FMTTYPE=image/jpeg:https://www.gasthof-loebl.de/wp-content/uploads/Fruehstuecksbuffet_II-scaled.jpg
END:VEVENT
BEGIN:VEVENT
DTSTART;TZID=Europe/Berlin:20261128T080000
DTEND;TZID=Europe/Berlin:20261128T103000
DTSTAMP:20260425T134037
CREATED:20251117T143828Z
LAST-MODIFIED:20260226T130452Z
UID:10000651-1795852800-1795861800@www.gasthof-loebl.de
SUMMARY:Frühstücksbuffet von Dienstag - Sonntag
DESCRIPTION:nur nach telefonischer Voranmeldung!
URL:https://www.gasthof-loebl.de/veranstaltung/fruehstuecksbuffet-taegl-von-dienstag-sonntag/2026-11-28/
LOCATION:Gasthof Löbl\, Eschenau\, August-Wacker-Str. 25\, Eschenau\, Bayern\, 97478
ATTACH;FMTTYPE=image/jpeg:https://www.gasthof-loebl.de/wp-content/uploads/Fruehstuecksbuffet_II-scaled.jpg
END:VEVENT
BEGIN:VEVENT
DTSTART;TZID=Europe/Berlin:20261129T080000
DTEND;TZID=Europe/Berlin:20261129T103000
DTSTAMP:20260425T134037
CREATED:20251117T143828Z
LAST-MODIFIED:20260226T130452Z
UID:10000652-1795939200-1795948200@www.gasthof-loebl.de
SUMMARY:Frühstücksbuffet von Dienstag - Sonntag
DESCRIPTION:nur nach telefonischer Voranmeldung!
URL:https://www.gasthof-loebl.de/veranstaltung/fruehstuecksbuffet-taegl-von-dienstag-sonntag/2026-11-29/
LOCATION:Gasthof Löbl\, Eschenau\, August-Wacker-Str. 25\, Eschenau\, Bayern\, 97478
ATTACH;FMTTYPE=image/jpeg:https://www.gasthof-loebl.de/wp-content/uploads/Fruehstuecksbuffet_II-scaled.jpg
END:VEVENT
BEGIN:VEVENT
DTSTART;TZID=Europe/Berlin:20261201T080000
DTEND;TZID=Europe/Berlin:20261201T103000
DTSTAMP:20260425T134037
CREATED:20251117T143828Z
LAST-MODIFIED:20260226T130452Z
UID:10000653-1796112000-1796121000@www.gasthof-loebl.de
SUMMARY:Frühstücksbuffet von Dienstag - Sonntag
DESCRIPTION:nur nach telefonischer Voranmeldung!
URL:https://www.gasthof-loebl.de/veranstaltung/fruehstuecksbuffet-taegl-von-dienstag-sonntag/2026-12-01/
LOCATION:Gasthof Löbl\, Eschenau\, August-Wacker-Str. 25\, Eschenau\, Bayern\, 97478
ATTACH;FMTTYPE=image/jpeg:https://www.gasthof-loebl.de/wp-content/uploads/Fruehstuecksbuffet_II-scaled.jpg
END:VEVENT
BEGIN:VEVENT
DTSTART;TZID=Europe/Berlin:20261202T080000
DTEND;TZID=Europe/Berlin:20261202T103000
DTSTAMP:20260425T134037
CREATED:20251117T143828Z
LAST-MODIFIED:20260226T130452Z
UID:10000654-1796198400-1796207400@www.gasthof-loebl.de
SUMMARY:Frühstücksbuffet von Dienstag - Sonntag
DESCRIPTION:nur nach telefonischer Voranmeldung!
URL:https://www.gasthof-loebl.de/veranstaltung/fruehstuecksbuffet-taegl-von-dienstag-sonntag/2026-12-02/
LOCATION:Gasthof Löbl\, Eschenau\, August-Wacker-Str. 25\, Eschenau\, Bayern\, 97478
ATTACH;FMTTYPE=image/jpeg:https://www.gasthof-loebl.de/wp-content/uploads/Fruehstuecksbuffet_II-scaled.jpg
END:VEVENT
BEGIN:VEVENT
DTSTART;TZID=Europe/Berlin:20261203T080000
DTEND;TZID=Europe/Berlin:20261203T103000
DTSTAMP:20260425T134037
CREATED:20251117T143828Z
LAST-MODIFIED:20260226T130452Z
UID:10000655-1796284800-1796293800@www.gasthof-loebl.de
SUMMARY:Frühstücksbuffet von Dienstag - Sonntag
DESCRIPTION:nur nach telefonischer Voranmeldung!
URL:https://www.gasthof-loebl.de/veranstaltung/fruehstuecksbuffet-taegl-von-dienstag-sonntag/2026-12-03/
LOCATION:Gasthof Löbl\, Eschenau\, August-Wacker-Str. 25\, Eschenau\, Bayern\, 97478
ATTACH;FMTTYPE=image/jpeg:https://www.gasthof-loebl.de/wp-content/uploads/Fruehstuecksbuffet_II-scaled.jpg
END:VEVENT
BEGIN:VEVENT
DTSTART;TZID=Europe/Berlin:20261203T113000
DTEND;TZID=Europe/Berlin:20261203T150000
DTSTAMP:20260425T134037
CREATED:20251027T141250Z
LAST-MODIFIED:20260326T124641Z
UID:10000120-1796297400-1796310000@www.gasthof-loebl.de
SUMMARY:Kesselfleischessen - jeden Donnerstag
DESCRIPTION:
URL:https://www.gasthof-loebl.de/veranstaltung/kesselfleischessen-jeden-donnerstag/2026-12-03/
LOCATION:Gasthof Löbl\, Eschenau\, August-Wacker-Str. 25\, Eschenau\, Bayern\, 97478
ATTACH;FMTTYPE=image/jpeg:https://www.gasthof-loebl.de/wp-content/uploads/Kesselfleisch_II.jpg
END:VEVENT
END:VCALENDAR